BEGIN:VCALENDAR
VERSION:2.0
PRODID:-//ChamberMaster//Event Calendar 2.0//EN
METHOD:PUBLISH
X-PUBLISHED-TTL:P3D
REFRESH-INTERVAL:P3D
CALSCALE:GREGORIAN
BEGIN:VEVENT
DTSTART:20160807T170000Z
DTEND:20160808T010000Z
X-MICROSOFT-CDO-ALLDAYEVENT:FALSE
SUMMARY:$1 First Sunday at ScienceWorks Museum
DESCRIPTION:ScienceWorks Museum offers $1 admission for all non-members ages 2 and up on the first Sunday of every month! Check our activities and events at www.scienceworksmuseum.org
X-ALT-DESC;FMTTYPE=text/html:ScienceWorks Museum offers $1 admission for all non-members ages 2 and up on the first Sunday of every month! Check our activities and events at www.scienceworksmuseum.org
LOCATION:1500 E. Main St. Ashland\, OR 97520
UID:e.1818.17707
SEQUENCE:3
DTSTAMP:20260425T192411Z
URL:https://business.grantspasschamber.org/events/details/1-first-sunday-at-scienceworks-museum-08-07-2016-17707
END:VEVENT

END:VCALENDAR
