BEGIN:VCALENDAR
VERSION:2.0
PRODID:-//ChamberMaster//Event Calendar 2.0//EN
METHOD:PUBLISH
X-PUBLISHED-TTL:P3D
REFRESH-INTERVAL:P3D
CALSCALE:GREGORIAN
BEGIN:VEVENT
DTSTART;VALUE=DATE:20161007
DTEND;VALUE=DATE:20161008
TRANSP:TRANSPARENT
X-MICROSOFT-CDO-ALLDAYEVENT:TRUE
SUMMARY:100th Anniversary of the Jospehine County Courthouse
DESCRIPTION:Please Join Us at the\n\nJosephine County Courthouse for the days events celebrating 100 Years for our Downtown Courthouse.\n\n\n\n12:30pm ~ 4:30pm   Coffee with the County.  Historical Slide Show\, Employee Art Exhibit ( 1st Floor\, Courthouse)\n\n\n\n1:30pm   Planting the Future - Officials from the County and City of Grants Pass will plant a tree (Courthouse Lawn)\n\n\n\n2:00pm   Time for 100 More !  Officials\, Employees\, and Community Partners to Fill a Time Capsule (Courthouse Steps)\n\n\n\nSunset - 9:30pm   Lighting of the Courthouse (by Jess Webb of Sights & Sounds)
X-ALT-DESC;FMTTYPE=text/html:<br />\n<strong><span style="font-size:16px\;">Please Join Us at the<br />\nJosephine County Courthouse for the days events celebrating 100 Years for our Downtown Courthouse.</span><br />\n<br />\n<u>12:30pm ~ 4:30pm</u> &nbsp\; Coffee with the County.&nbsp\; Historical Slide Show\, Employee Art Exhibit ( 1st Floor\, Courthouse)<br />\n<br />\n<u>1:30pm</u>&nbsp\;&nbsp\; Planting the Future - Officials from the County and City of Grants Pass will plant a tree (Courthouse Lawn)<br />\n<br />\n<u>2:00pm</u>&nbsp\;&nbsp\; Time for 100 More !&nbsp\; Officials\, Employees\, and Community Partners to Fill a Time Capsule (Courthouse Steps)<br />\n<br />\n<u>Sunset - 9:30pm</u> &nbsp\; Lighting of the Courthouse (by Jess Webb of Sights &amp\; Sounds)</strong><br />\n<br />\n&nbsp\;
LOCATION:Josephine County Courthouse 500 NW 6th Street Grants Pass
UID:e.1818.17855
SEQUENCE:3
DTSTAMP:20260425T163442Z
URL:https://business.grantspasschamber.org/events/details/100th-anniversary-of-the-jospehine-county-courthouse-17855
END:VEVENT

END:VCALENDAR
