BEGIN:VCALENDAR
VERSION:2.0
PRODID:-//ChamberMaster//Event Calendar 2.0//EN
METHOD:PUBLISH
X-PUBLISHED-TTL:P3D
REFRESH-INTERVAL:P3D
CALSCALE:GREGORIAN
BEGIN:VEVENT
DTSTART;VALUE=DATE:20180531
DTEND;VALUE=DATE:20180601
TRANSP:TRANSPARENT
X-MICROSOFT-CDO-ALLDAYEVENT:TRUE
SUMMARY:20 Year Anniversary Celebration ~ 40% off sale
DESCRIPTION:All inventory made at The Glass Forge will be 40% for the ENTIRE Month of May\n\nin celebration of our 20th Anniversary
X-ALT-DESC;FMTTYPE=text/html:<strong>All inventory made at The Glass Forge <span style="color:#FF0000\;">will be 40% for the ENTIRE Month of May</span><br />\nin celebration of our 20th Anniversary</strong>
LOCATION:The Glass Forge Gallery and Studio 501 SW G St Grants Pass
UID:e.1818.29046
SEQUENCE:3
DTSTAMP:20260424T025752Z
URL:https://business.grantspasschamber.org/events/details/20-year-anniversary-celebration-40-off-sale-29046
END:VEVENT

END:VCALENDAR
