BEGIN:VCALENDAR
VERSION:2.0
PRODID:-//ChamberMaster//Event Calendar 2.0//EN
METHOD:PUBLISH
X-PUBLISHED-TTL:P3D
REFRESH-INTERVAL:P3D
CALSCALE:GREGORIAN
BEGIN:VEVENT
DTSTART:20241109T003000Z
DTEND:20241109T020000Z
X-MICROSOFT-CDO-ALLDAYEVENT:FALSE
SUMMARY:2nd Friday Rib Dinner
DESCRIPTION:American Legion Post 28 located at 206 NW F St @ 5th St\, is having 2nd Friday Night Dinner on November 8th from 4:30pm-6:00pm.\n\n\n\nThe cost is $16 per plate (to go add $1). They will be serving Ribs\, Baked Potato\, Beans\, Vegetables\, Bread and Dessert.\n\n\n\nReservations are required. Please secure your spot by Thursday\, November 7th by calling 541-474-6400 Monday-Saturday from  2:00pm-6:00pm.\n\n\n\nPlease no credit/debit cards. Proceeds go to Grants Pass Post 28 American Legion Programs
X-ALT-DESC;FMTTYPE=text/html:<br />\n<span style="font-size:20px\;">American Legion Post 28 located at&nbsp\;</span><span style="color: rgb(51\, 51\, 51)\; font-family: sans-serif\, Arial\, Verdana\, &quot\;Trebuchet MS&quot\;\; font-size: 20px\; background-color: rgb(255\, 255\, 255)\;">206 NW F St @ 5th St\,&nbsp\;</span><span style="font-size:20px\;">is having 2nd Friday Night Dinner on November 8th&nbsp\;</span><span style="color: rgb(51\, 51\, 51)\; font-family: sans-serif\, Arial\, Verdana\, &quot\;Trebuchet MS&quot\;\; font-size: 20px\; background-color: rgb(255\, 255\, 255)\;">from 4:30pm-6:00pm.<br />\n<br />\nThe cost is $16 per plate (to go add $1). They will be s</span><span style="font-size:20px\;">erving Ribs\, Baked Potato\, Beans\, Vegetables\, Bread and Dessert.<br />\n<br />\nReservations are required. Please secure your spot by Thursday\, November 7th by calling 541-474-6400 Monday-Saturday from&nbsp\; 2:00pm-6:00pm.<br />\n<br />\nPlease no credit/debit cards. Proceeds go to Grants Pass Post 28 American Legion Programs</span>
LOCATION:American Legion Post 28 206 NW F St @ 5th St Grants Pass
UID:e.1818.52723
SEQUENCE:3
DTSTAMP:20260419T222031Z
URL:https://business.grantspasschamber.org/events/details/2nd-friday-rib-dinner-52723
END:VEVENT

END:VCALENDAR
