BEGIN:VCALENDAR
VERSION:2.0
PRODID:-//ChamberMaster//Event Calendar 2.0//EN
METHOD:PUBLISH
X-PUBLISHED-TTL:P3D
REFRESH-INTERVAL:P3D
CALSCALE:GREGORIAN
BEGIN:VEVENT
DTSTART;VALUE=DATE:20211022
DTEND;VALUE=DATE:20211023
TRANSP:TRANSPARENT
X-MICROSOFT-CDO-ALLDAYEVENT:TRUE
SUMMARY:4-H JoCo Stockings for Soldiers ~ OSU Extension
DESCRIPTION:SAY "THANK YOU" TO OUR SOLDIERS\n\n\n\nJoin 4-H in providing essential items and cheer to our deployed soldiers. For the Last 11 years\, Josephine County 4-H has sent Christmas cheer to deployed soldiers.  Join 4-H send out JoCo Stockings for Soldiers in 2021\n\n\n\nThis year we will\, once again\, need to fill stockings we currently have with needed items.  Aspirin\, Body powder\, Disposable razors\, Flavored water packets\, Individual size snacks such as chips\, cookies nuts.  Instant oatmeal\, Hot sauce\, Lotions\, Lip balm\, Sanitary wipes\, Toothbrushes/Toothpaste\, Christmas cards of thanks and good cheer\, Other item that our soldiers may appreciate receiving.\n\n\n\nThe DEADLINE to DROP OFF items is Monday\, November 29th.   Donated items can be mailed or delivered to the OSU Extension office at 215 Ringuette St. Grants Pass.  Drop off hours are Monday thru Friday 9am to 4pm.\n\n\n\nMonetary donations can be placed through the mails slot to the right of the door at the OSU Extension office or can be taken to an Evergreen Bank location and deposited in the 4-H Stockings for the Soldiers account.
X-ALT-DESC;FMTTYPE=text/html:<strong><span style="font-size:18px\;">SAY &quot\;THANK YOU&quot\; TO OUR SOLDIERS</span><br />\n<br />\nJoin 4-H in providing essential items and cheer to our deployed soldiers. For the Last 11 years\, Josephine County 4-H has sent Christmas cheer to deployed soldiers.&nbsp\; Join 4-H send out JoCo Stockings for Soldiers in 2021<br />\n<br />\nThis year we will\, once again\, need to fill stockings we currently have with needed items.&nbsp\; Aspirin\, Body powder\, Disposable razors\, Flavored water packets\, Individual size snacks such as chips\, cookies nuts.&nbsp\; Instant oatmeal\, Hot sauce\, Lotions\, Lip balm\, Sanitary wipes\, Toothbrushes/Toothpaste\, Christmas cards of thanks and good cheer\, Other item that our soldiers may appreciate receiving.<br />\n<br />\nThe DEADLINE to DROP OFF items is Monday\, November 29th.&nbsp\;&nbsp\; Donated items can be mailed or delivered to the OSU Extension office at 215 Ringuette St. Grants Pass.&nbsp\; Drop off hours are Monday thru Friday 9am to 4pm.<br />\n<br />\nMonetary donations can be placed through the mails slot to the right of the door at the OSU Extension office or can be taken to an Evergreen Bank location and deposited in the 4-H Stockings for the Soldiers account.</strong><br />\n&nbsp\;
LOCATION:OSU Extensions Service 215 Ringuette St Grants Pass\, OR 97527 (541) 476-6613
UID:e.1818.37921
SEQUENCE:3
DTSTAMP:20260421T074801Z
URL:https://business.grantspasschamber.org/events/details/4-h-joco-stockings-for-soldiers-osu-extension-37921
END:VEVENT

END:VCALENDAR
