BEGIN:VCALENDAR
VERSION:2.0
PRODID:-//ChamberMaster//Event Calendar 2.0//EN
METHOD:PUBLISH
X-PUBLISHED-TTL:P3D
REFRESH-INTERVAL:P3D
CALSCALE:GREGORIAN
BEGIN:VEVENT
DTSTART;VALUE=DATE:20260514
DTEND;VALUE=DATE:20260515
TRANSP:TRANSPARENT
X-MICROSOFT-CDO-ALLDAYEVENT:TRUE
SUMMARY:4 Keys to Cutting College Costs: How to Avoid Overpaying [Webinar]
DESCRIPTION:4 Keys to Cutting College Costs: How to Avoid Overpaying [Webinar]\n\n \n\nCollege planning can be an anxious and overwhelming process for families. The consequences of poor planning can leave parents and their kids saddled with debt for many years to come. Aggressive marketing\, competitive pressure\, and the stress of deadlines makes overpaying for college far too easy.\n\n \n\nParents are asking: \n\n\n	\n	How are we going to afford college?\n	\n	\n	Will my kids qualify for financial aid and what are the different kinds available?\n	\n	\n	How do I know what the actual cost is going to be\, beyond just the tuition cost?\n	\n	\n	How do I determine if a school is worth the cost?\n	\n\n\n \n\nIn this Educational Webinar we will help you answer these questions and leave you feeling better prepared for this exciting time in you and your family's lives.\n\n \n\nRegister to save your seat today! https://opfa.info/3O7wavO
X-ALT-DESC;FMTTYPE=text/html:<p><span style="font-size:20px\;">4 Keys to Cutting College Costs: How to Avoid Overpaying [Webinar]<br />\n&nbsp\;<br />\nCollege planning can be an anxious and overwhelming process for families. The consequences of poor planning can leave parents and their kids saddled with debt for many years to come. Aggressive marketing\, competitive pressure\, and the stress of deadlines makes overpaying for college far too easy.<br />\n&nbsp\;<br />\nParents are asking:&nbsp\;</span></p>\n\n<ul>\n	<li>\n	<p><span style="font-size:20px\;">How are we going to afford college?</span></p>\n	</li>\n	<li>\n	<p><span style="font-size:20px\;">Will my kids qualify for financial aid and what are the different kinds available?</span></p>\n	</li>\n	<li>\n	<p><span style="font-size:20px\;">How do I know what the actual cost is going to be\, beyond just the tuition cost?</span></p>\n	</li>\n	<li>\n	<p><span style="font-size:20px\;">How do I determine if a school is worth the cost?</span></p>\n	</li>\n</ul>\n\n<p><span style="font-size:20px\;">&nbsp\;<br />\nIn this Educational Webinar we will help you answer these questions and leave you feeling better prepared for this exciting time in you and your family&#39\;s lives.<br />\n&nbsp\;<br />\n<strong><span style="font-family:calibri\,sans-serif">Register to save your seat today!&nbsp\;<a href="https://opfa.info/3O7wavO">https://opfa.info/3O7wavO</a></span></strong></span></p>\n
LOCATION:Online Webinar Learn more and register here: https://opfa.info/3O7wavO
UID:e.1818.59568
SEQUENCE:3
DTSTAMP:20260422T133324Z
URL:https://business.grantspasschamber.org/events/details/4-keys-to-cutting-college-costs-how-to-avoid-overpaying-webinar-59568
END:VEVENT

END:VCALENDAR
