BEGIN:VCALENDAR
VERSION:2.0
PRODID:-//ChamberMaster//Event Calendar 2.0//EN
METHOD:PUBLISH
X-PUBLISHED-TTL:P3D
REFRESH-INTERVAL:P3D
CALSCALE:GREGORIAN
BEGIN:VEVENT
DTSTART:20160911T150000Z
DTEND:20160911T220000Z
X-MICROSOFT-CDO-ALLDAYEVENT:FALSE
SUMMARY:41ST ANNUAL CAR SWAP MEET
DESCRIPTION:The Caveman Vintage Car Club is proud to present our 41ST Annual Car Swap Meet\n\n\n\nFood & Drink Available in Kiwanis Food Booth
X-ALT-DESC;FMTTYPE=text/html:<strong>The Caveman Vintage Car Club is proud to present our 41ST Annual Car Swap Meet<br />\n<br />\n<u>Food &amp\; Drink Available in Kiwanis Food Booth</u></strong>
LOCATION:Josephine County Fair Grounds 1451 Fairgrounds RD Grants Pass OR 97527
UID:e.1818.17694
SEQUENCE:3
DTSTAMP:20260425T181726Z
URL:https://business.grantspasschamber.org/events/details/41st-annual-car-swap-meet-09-11-2016-17694
END:VEVENT

END:VCALENDAR
