BEGIN:VCALENDAR
VERSION:2.0
PRODID:-//ChamberMaster//Event Calendar 2.0//EN
METHOD:PUBLISH
X-PUBLISHED-TTL:P3D
REFRESH-INTERVAL:P3D
CALSCALE:GREGORIAN
BEGIN:VEVENT
DTSTART:20160705T033000Z
DTEND:20160705T033000Z
X-MICROSOFT-CDO-ALLDAYEVENT:FALSE
SUMMARY:4th of July Fireworks Celebration 2016
DESCRIPTION:Gates Open at 8:30 pm for this years 4th of July Josephine County Fireworks Spectacular\n\n\n	 Fun and Flags for the children\n\n10:00 pm Fireworks Spectacular Begins\n\nYou can also donate at\n\ngofundme.com/23t7g3w
X-ALT-DESC;FMTTYPE=text/html:<strong><em><span style="font-size:18px\;">Gates Open at 8:30 pm for this years 4th of July Josephine County Fireworks Spectacular</span></em></strong>\n\n<ul>\n	<li><strong>&nbsp\;Fun and Flags for the children</strong></li>\n</ul>\n<span style="font-size:18px\;"><strong>10:00 pm Fireworks Spectacular Begins<br />\nYou can also donate at</strong></span><br />\n<a href="http://gofundme.com/23t7g3w"><span style="background:#F3F9E4\;"><span style="color:#5F7E19\;"><span style="font-family:arial\,sans-serif\;"><span style="font-size:22.5pt\;">gofundme.com/23t7g3w</span></span></span></span></a>
LOCATION:Josephine County Fairgrounds 1451 Fairgrounds Road Free Parking ~ Free Admission
UID:e.1818.11252
SEQUENCE:3
DTSTAMP:20260421T111227Z
URL:https://business.grantspasschamber.org/events/details/4th-of-july-fireworks-celebration-2016-07-04-2016-11252
END:VEVENT

END:VCALENDAR
