BEGIN:VCALENDAR
VERSION:2.0
PRODID:-//ChamberMaster//Event Calendar 2.0//EN
METHOD:PUBLISH
X-PUBLISHED-TTL:P3D
REFRESH-INTERVAL:P3D
CALSCALE:GREGORIAN
BEGIN:VEVENT
DTSTART:20160501T013000Z
DTEND:20160501T040000Z
X-MICROSOFT-CDO-ALLDAYEVENT:FALSE
SUMMARY:A Night To Die For ~ Murder Mystery Dinner Theater
DESCRIPTION:One Eleven Theatre Company and The Suites Assisted Living present: A Night to Die For\, A Murder Mystery Dinner Theater. Red Carpet Tickets: $50/pair includes dinner for two\, bar service\, costume contest\, auction entry\, and show. VIP Entry: $60/pair includes dinner for two and private booth\, bar service\, costume contest\, auction entry\, and show.\n\n\n\nDinner includes steak and lobster tail with great sides\, red and white wine\, and dessert buffet!\n\n\n\nAll proceeds will benefit One Eleven Theatre Productions a local non profit organization! Doors open at 6:30pm. Tickets are limited! GET YOURS TODAY at 541-955-9115
X-ALT-DESC;FMTTYPE=text/html:<strong>One Eleven Theatre Company and The Suites Assisted Living present: A Night to Die For\, A Murder Mystery Dinner Theater. Red Carpet Tickets: $50/pair includes dinner for two\, bar service\, costume contest\, auction entry\, and show. VIP Entry: $60/pair includes dinner for two and private booth\, bar service\, costume contest\, auction entry\, and show.<br />\n<br />\nDinner includes steak and lobster tail with great sides\, red and white wine\, and dessert buffet!<br />\n<br />\nAll proceeds will benefit One Eleven Theatre Productions a local non profit organization! Doors open at 6:30pm. Tickets are limited! GET YOURS TODAY at 541-955-9115</strong>
LOCATION:Elks Lodge SW K St. Grants Pass
UID:e.1818.17252
SEQUENCE:3
DTSTAMP:20260426T013707Z
URL:https://business.grantspasschamber.org/events/details/a-night-to-die-for-murder-mystery-dinner-theater-04-30-2016-17252
END:VEVENT

END:VCALENDAR
