BEGIN:VCALENDAR
VERSION:2.0
PRODID:-//ChamberMaster//Event Calendar 2.0//EN
METHOD:PUBLISH
X-PUBLISHED-TTL:P3D
REFRESH-INTERVAL:P3D
CALSCALE:GREGORIAN
BEGIN:VEVENT
DTSTART;VALUE=DATE:20161008
DTEND;VALUE=DATE:20161009
TRANSP:TRANSPARENT
X-MICROSOFT-CDO-ALLDAYEVENT:TRUE
SUMMARY:A Toast to the Wild
DESCRIPTION:A benefit for Wildlife Images.
X-ALT-DESC;FMTTYPE=text/html:<strong>A benefit for Wildlife Images.</strong>
LOCATION:To be determined
UID:e.1818.15510
SEQUENCE:3
DTSTAMP:20260425T163344Z
URL:https://business.grantspasschamber.org/events/details/a-toast-to-the-wild-10-08-2016-15510
END:VEVENT

END:VCALENDAR
