BEGIN:VCALENDAR
VERSION:2.0
PRODID:-//ChamberMaster//Event Calendar 2.0//EN
METHOD:PUBLISH
X-PUBLISHED-TTL:P3D
REFRESH-INTERVAL:P3D
CALSCALE:GREGORIAN
BEGIN:VEVENT
DTSTART;VALUE=DATE:20161015
DTEND;VALUE=DATE:20161016
TRANSP:TRANSPARENT
X-MICROSOFT-CDO-ALLDAYEVENT:TRUE
SUMMARY:AAUW 12th Annual Kitchen Tour
DESCRIPTION:Tour Six Kitchens and a Cabinet Making Studio this year in the 12th Annual AAUW Kitchen Tour.\n\n\n\nTickets can be purchased for $20 at the Kitchen Company on 301 SE 6th St\, at Oregon Books on 150 NE E St\, from an AAUW member or the day of the tour at the Newman United Methodist Church (headquarters)\, 132 NE B Street.\n\n\n\nProceeds go to support local and national scholarships. Over $110\,000 has been raised over the past 11 years of this event.
X-ALT-DESC;FMTTYPE=text/html:<strong>Tour Six Kitchens and a Cabinet Making Studio this year in the 12th Annual AAUW Kitchen Tour.<br />\n<br />\n<u><span style="color:#FF0000\;">Tickets can be purchased for $20</span></u> at the Kitchen Company on 301 SE 6th St\, at Oregon Books on 150 NE E St\, from an AAUW member or the day of the tour at the Newman United Methodist Church (headquarters)\, 132 NE B Street.<br />\n<br />\nProceeds go to support local and national scholarships. Over $110\,000 has been raised over the past 11 years of this event.</strong>
LOCATION:Grants Pass and Merlin
UID:e.1818.17729
SEQUENCE:3
DTSTAMP:20260425T163344Z
URL:https://business.grantspasschamber.org/events/details/aauw-12th-annual-kitchen-tour-10-15-2016-17729
END:VEVENT

END:VCALENDAR
