BEGIN:VCALENDAR
VERSION:2.0
PRODID:-//ChamberMaster//Event Calendar 2.0//EN
METHOD:PUBLISH
X-PUBLISHED-TTL:P3D
REFRESH-INTERVAL:P3D
CALSCALE:GREGORIAN
BEGIN:VEVENT
DTSTART:20171021T163000Z
DTEND:20171021T223000Z
X-MICROSOFT-CDO-ALLDAYEVENT:FALSE
SUMMARY:AAUW Grants Pass Kitchen Tour
DESCRIPTION:The Grants Pass AAUW 13th Annual Kitchen Tour\n\nis Saturday\, October 21st from 9:30 AM to 3:30 PM.\n\n\n\nIt is a fundraiser for local and national college scholarships. Over $115\,000 has been raised during the past 12 years.\n\n\n\nTour goers purchase a $20 ticket that maps 6 beautiful kitchens and a bazaar to visit.\n\n\n\nTickets may be purchased in Grants Pass at the following locations:\n\n\n\nThe Kitchen Company\, 301 SE 6th St.\;\n\nOregon Books\, 150 NE E St.\;\n\nNewman United Methodist Church\, 132 NE B St.\n\non the day of the event (headquarters)\;\n\nor from a member of GP AAUW.\n\n\n\nPlease join the fun! syharmony@gmail.com
X-ALT-DESC;FMTTYPE=text/html:<strong><u>The Grants Pass AAUW 13th Annual Kitchen Tour</u><br />\nis Saturday\, October 21st from 9:30 AM to 3:30 PM.<br />\n<br />\nIt is a fundraiser for local and national college scholarships. Over $115\,000 has been raised during the past 12 years.<br />\n<br />\nTour goers purchase a $20 ticket that maps 6 beautiful kitchens and a bazaar to visit.<br />\n<br />\n<u>Tickets may be purchased in Grants Pass at the following locations</u>:<br />\n<br />\nThe Kitchen Company\, 301 SE 6th St.\;<br />\nOregon Books\, 150 NE E St.\;<br />\nNewman United Methodist Church\, 132 NE B St.<br />\non the day of the event (headquarters)\;<br />\nor from a member of GP AAUW.<br />\n<br />\nPlease join the fun! syharmony@gmail.com</strong>
LOCATION:Grants Pass
UID:e.1818.24611
SEQUENCE:3
DTSTAMP:20260424T200803Z
URL:https://business.grantspasschamber.org/events/details/aauw-grants-pass-kitchen-tour-24611
END:VEVENT

END:VCALENDAR
