BEGIN:VCALENDAR
VERSION:2.0
PRODID:-//ChamberMaster//Event Calendar 2.0//EN
METHOD:PUBLISH
X-PUBLISHED-TTL:P3D
REFRESH-INTERVAL:P3D
CALSCALE:GREGORIAN
BEGIN:VEVENT
DTSTART:20160624T020000Z
DTEND:20160625T040000Z
X-MICROSOFT-CDO-ALLDAYEVENT:FALSE
SUMMARY:Alice in Wonderland Ballet ~ Heartland Dance Studio
DESCRIPTION:~ Alice in Wonderland with Artistic Director Erica Bury~\n\n\n\nFall down the rabbit hole and join Heartland Dance Studio on an adventure with Alice In Wonderland\, a ballet based on Lewis Carroll's books.\n\n\n\nExperience a (wonder) land of the whimsical and absurd with beloved colorful characters including the White Rabbit\, Cheshire Cat\, Caterpiller\, Mad Hatter and other exotic creatures as young Alice escapes the clutches of the wicked Queen of Hearts.\n\n\n\nThe role of Alice will be performed by Emily Haro. Emily has been with Heartland for 13 years\, and was recently on stage in Stillpoint's The Nutcraker and Heartlands Tin Soldier.\n\n\n\nLaura Perkins will portray the White Rabbit\, and Abigail Welch\, the Queen of Hearts.
X-ALT-DESC;FMTTYPE=text/html:<strong>~ Alice in Wonderland with Artistic Director Erica Bury~<br />\n<br />\nFall down the rabbit hole and join Heartland Dance Studio on an adventure with Alice In Wonderland\, a ballet based on Lewis Carroll&#39\;s books.<br />\n<br />\nExperience a (wonder) land of the whimsical and absurd with beloved colorful characters including the White Rabbit\, Cheshire Cat\, Caterpiller\, Mad Hatter and other exotic creatures as young Alice escapes the clutches of the wicked Queen of Hearts.<br />\n<br />\nThe role of Alice will be performed by Emily Haro. Emily has been with Heartland for 13 years\, and was recently on stage in Stillpoint&#39\;s The Nutcraker and Heartlands Tin Soldier.<br />\n<br />\nLaura Perkins will portray the White Rabbit\, and Abigail Welch\, the Queen of Hearts.</strong>
LOCATION:Grants Pass Performing Arts Center 8th and Olive Grants Pass\, Oregon
UID:e.1818.17208
SEQUENCE:3
DTSTAMP:20260425T224105Z
URL:https://business.grantspasschamber.org/events/details/alice-in-wonderland-ballet-heartland-dance-studio-06-23-2016-17208
END:VEVENT

END:VCALENDAR
