BEGIN:VCALENDAR
VERSION:2.0
PRODID:-//ChamberMaster//Event Calendar 2.0//EN
METHOD:PUBLISH
X-PUBLISHED-TTL:P3D
REFRESH-INTERVAL:P3D
CALSCALE:GREGORIAN
BEGIN:VEVENT
DTSTART:20160826T010000Z
DTEND:20160826T050000Z
X-MICROSOFT-CDO-ALLDAYEVENT:FALSE
SUMMARY:ALL AGES Indie Rock ~ Spoken Word ~ Metal Show at the Eaden Ballroom
DESCRIPTION:The Eaden Ballroom and CAYA are proud to present:\n\n\n\nSounds of Satellites (CA) : www.soundsofsatellites.com Foxhollow (OR) :foxhollow.bandcamp.com/ Whim (Jesse Bright) (OR) :http://whim1.bandcamp.com/ Your Hands Write History (OR): yourhandswritehistory.bandcamp.com
X-ALT-DESC;FMTTYPE=text/html:<strong><u>The Eaden Ballroom and CAYA are proud to present</u>:<br />\n<br />\nSounds of Satellites (CA) : www.soundsofsatellites.com Foxhollow (OR) :foxhollow.bandcamp.com/ Whim (Jesse Bright) (OR) :http://whim1.bandcamp.com/ Your Hands Write History (OR): yourhandswritehistory.bandcamp.com</strong>
LOCATION:Eaden Ballroom 244 SW K Street Grants Pass\, OR 97526
UID:e.1818.17749
SEQUENCE:3
DTSTAMP:20260425T192913Z
URL:https://business.grantspasschamber.org/events/details/all-ages-indie-rock-spoken-word-metal-show-at-the-eaden-ballroom-08-25-2016-17749
END:VEVENT

END:VCALENDAR
