BEGIN:VCALENDAR
VERSION:2.0
PRODID:-//ChamberMaster//Event Calendar 2.0//EN
METHOD:PUBLISH
X-PUBLISHED-TTL:P3D
REFRESH-INTERVAL:P3D
CALSCALE:GREGORIAN
BEGIN:VEVENT
DTSTART;VALUE=DATE:20160725
DTEND;VALUE=DATE:20160726
TRANSP:TRANSPARENT
X-MICROSOFT-CDO-ALLDAYEVENT:TRUE
SUMMARY:All- Star Game Fan Fest\, 2016
DESCRIPTION:The Medford Rogues are hosting the 2016 inaugural Great West League All-Star Game that is sure to bring in fans from the 5 other markets that the GWL extends to.\n\n\n\nVendors are now able to sign up for a spot at this unique opportunity to show off businesses and organizations in Southern Oregon\n\n\n\nEach Vendor will receive two tickets to the All-Star Game on July 26th\n\n\n\nOn July 25\, there will be a Fan Fest before and during the Home Run Derby featuring businesses from across the Rogue Valley\n\n\n\nThe All-Star Game kicks off on Tuesday\, July 26 at 7:05pm with a postgame fireworks show! Tickets are on sale now call 541-973-2883
X-ALT-DESC;FMTTYPE=text/html:<strong>The Medford Rogues are hosting the 2016 inaugural Great West League All-Star Game that is sure to bring in fans from the 5 other markets that the GWL extends to.<br />\n<br />\nVendors are now able to sign up for a spot at this unique opportunity to show off businesses and organizations in Southern Oregon<br />\n<br />\nEach Vendor will receive two tickets to the All-Star Game on July 26th<br />\n<br />\nOn July 25\, there will be a Fan Fest before and during the Home Run Derby featuring businesses from across the Rogue Valley</strong><br />\n<br />\n<span style="font-size: medium\;"><strong><u>The All-Star Game kicks off on Tuesday\, July 26 at 7:05pm</u> with a postgame fireworks show! Tickets are on sale now call 541-973-2883 </strong></span><br />\n<br />\n<br />\n<br />\n&nbsp\;
LOCATION:Harry & David Field
UID:e.1818.17688
SEQUENCE:3
DTSTAMP:20260425T210203Z
URL:https://business.grantspasschamber.org/events/details/all-star-game-fan-fest-2016-17688
END:VEVENT

END:VCALENDAR
