BEGIN:VCALENDAR
VERSION:2.0
PRODID:-//ChamberMaster//Event Calendar 2.0//EN
METHOD:PUBLISH
X-PUBLISHED-TTL:P3D
REFRESH-INTERVAL:P3D
CALSCALE:GREGORIAN
BEGIN:VEVENT
DTSTART:20190110T190000Z
DTEND:20190110T210000Z
X-MICROSOFT-CDO-ALLDAYEVENT:FALSE
SUMMARY:Alley Activation Public Listening Session~Blue Zones
DESCRIPTION:On January 10th from the hours of 11:00 am and 1:00 pm Tours will be offered of the three alleys in historic downtown Grants Pass that are part of a collaborative "Alley Beautification and Activation Project".\n\n\n\nActivated alleys can play a central role in enhancing the character and livability of a City by helping to offer a diverse range of public spaces. All of the alleys under consideration will have river and Grants Pass Bridge featured elements designed to celebrate the many outdoor recreational opportunities that exist in Southern Oregon.\n\n\n\nAt the conclusion of the Tours\, members of the public and downtown business community are invited to share their thoughts\, and ideas about the improvements being considered in the HIVVE. Light refreshments will be provided.
X-ALT-DESC;FMTTYPE=text/html:<span style="font-size:16px\;"><span style="color: rgb(29\, 33\, 41)\; font-family: Helvetica\, Arial\, sans-serif\; background-color: rgb(255\, 255\, 255)\;">On January 10th from the hours of 11:00 am and 1:00 pm Tours will be offered of the three alleys in historic downtown Grants Pass that are part of a collaborative &ldquo\;Alley Beautification and Activation Project&rdquo\;.<br />\n<br />\nActivated alleys can play a central role in enhancing the character and livability of a City by helping to offer a diverse range of public spaces. All of the alleys under consideration will have river and Grants Pass Bridge featured elements designed to celebrate the many outdoor recreational opportunities that exist in Southern Oregon.<br />\n<br />\nAt the conclusion of the Tours\, members of the public and downtown business community are invited to share their thoughts\, and ideas about the improvements being considered in the HIVVE. Light refreshments will be provided.</span></span>
LOCATION:The Hivve Coworking & Venue
UID:e.1818.30342
SEQUENCE:3
DTSTAMP:20260423T235558Z
URL:https://business.grantspasschamber.org/events/details/alley-activation-public-listening-session-blue-zones-30342
END:VEVENT

END:VCALENDAR
