BEGIN:VCALENDAR
VERSION:2.0
PRODID:-//ChamberMaster//Event Calendar 2.0//EN
METHOD:PUBLISH
X-PUBLISHED-TTL:P3D
REFRESH-INTERVAL:P3D
CALSCALE:GREGORIAN
BEGIN:VEVENT
DTSTART:20180315T190000Z
DTEND:20180316T010000Z
X-MICROSOFT-CDO-ALLDAYEVENT:FALSE
SUMMARY:AMERICAN LEGION BIRTHDAY ~ 99th
DESCRIPTION:The American Legion Grants Pass Post 28 is hosting an Open House on Wednesday\, March 15\, from 12-6 pm.\n\n\n\nWe are celebrating The American Legion's 99th Birthday with cake and coffee\; other beverages will be available.\n\n\n\nPlease come and get to know us at Post 28\, and what we do in our community. 206 NW F St @ 5th St. 541-474-6400.
X-ALT-DESC;FMTTYPE=text/html:<strong>The American Legion Grants Pass Post 28 is hosting an Open House on Wednesday\, March 15\, from 12-6 pm.<br />\n<br />\n<span style="font-size:18px\;">We are celebrating The American Legion&#39\;s 99th Birthday with cake and coffee\; other beverages will be available.</span><br />\n<br />\nPlease come and get to know us at Post 28\, and what we do in our community. 206 NW F St @ 5th St. 541-474-6400.</strong>
LOCATION:American Legion Grants Pass Post 28 206 NW F ST @ 5TH ST Grants Pass
UID:e.1818.25382
SEQUENCE:3
DTSTAMP:20260424T070748Z
URL:https://business.grantspasschamber.org/events/details/american-legion-birthday-99th-25382
END:VEVENT

END:VCALENDAR
