BEGIN:VCALENDAR
VERSION:2.0
PRODID:-//ChamberMaster//Event Calendar 2.0//EN
METHOD:PUBLISH
X-PUBLISHED-TTL:P3D
REFRESH-INTERVAL:P3D
CALSCALE:GREGORIAN
BEGIN:VEVENT
DTSTART:20180407T160000Z
DTEND:20180407T200000Z
X-MICROSOFT-CDO-ALLDAYEVENT:FALSE
SUMMARY:American Legion Post 28 Parking Lot Sale
DESCRIPTION:American Legion Post 28 is having a Parking Lot Sale on Sat the 7th of April\n\nat 206 NW F St at the corner of 5th St across from the Growers Market\n\nin Grants Pass. Starting at 9 am until 1pm.\n\n\n\nLots of brand new items from the closing of a hardware store.\n\n\n\nBenefiting the American Legion Post 28
X-ALT-DESC;FMTTYPE=text/html:<strong>American Legion Post 28 is having a Parking Lot Sale on Sat the 7th of April<br />\nat 206 NW F St at the corner of 5th St across from the Growers Market<br />\nin Grants Pass. Starting at 9 am until 1pm.<br />\n<br />\nLots of brand new items from the closing of a hardware store.<br />\n<br />\nBenefiting the American Legion Post 28</strong>
LOCATION:American Legion Post 28 206 NW F St @ 5th St
UID:e.1818.28722
SEQUENCE:3
DTSTAMP:20260424T051104Z
URL:https://business.grantspasschamber.org/events/details/american-legion-post-28-parking-lot-sale-28722
END:VEVENT

END:VCALENDAR
