BEGIN:VCALENDAR
VERSION:2.0
PRODID:-//ChamberMaster//Event Calendar 2.0//EN
METHOD:PUBLISH
X-PUBLISHED-TTL:P3D
REFRESH-INTERVAL:P3D
CALSCALE:GREGORIAN
BEGIN:VEVENT
DTSTART:20160307T210000Z
DTEND:20160308T010000Z
X-MICROSOFT-CDO-ALLDAYEVENT:FALSE
SUMMARY:American Red Cross Blood & Marrow Drive
DESCRIPTION:Age 18-44? Join the match registry and donate blood and bone marrow to help those in need! This event will benefit Andy (who recently relapsed with Acute Myeloid Leukemia) and Rio (who has severe aplastic anemia.) Register now at www.redcrossblood.org or 1-800-RED CROSS Use code: AndyN
X-ALT-DESC;FMTTYPE=text/html:Age 18-44? Join the match registry and donate blood and bone marrow to help those in need! This event will benefit Andy (who recently relapsed with Acute Myeloid Leukemia) and Rio (who has severe aplastic anemia.) Register now at www.redcrossblood.org or 1-800-RED CROSS Use code: AndyN
LOCATION:Lithia Chrysler Jeep Dodge of Grants Pass 1421 NE 6th St
UID:e.1818.15781
SEQUENCE:3
DTSTAMP:20260426T030827Z
URL:https://business.grantspasschamber.org/events/details/american-red-cross-blood-marrow-drive-03-07-2016-15781
END:VEVENT

END:VCALENDAR
