BEGIN:VCALENDAR
VERSION:2.0
PRODID:-//ChamberMaster//Event Calendar 2.0//EN
METHOD:PUBLISH
X-PUBLISHED-TTL:P3D
REFRESH-INTERVAL:P3D
CALSCALE:GREGORIAN
BEGIN:VEVENT
DTSTART;VALUE=DATE:20160204
DTEND;VALUE=DATE:20160205
TRANSP:TRANSPARENT
X-MICROSOFT-CDO-ALLDAYEVENT:TRUE
SUMMARY:An Evening with Aaron Auer ~ Fruitdale Grange
DESCRIPTION:Candidate for Governor Aaron Auer\n\nSponsored by the Grants Pass chapter of the John Birch Society
X-ALT-DESC;FMTTYPE=text/html:Candidate for Governor Aaron Auer<br />\nSponsored by the Grants Pass chapter of the John Birch Society
LOCATION:Fruitdale Grange 1440 Parkdale Drive Grants Pass
UID:e.1818.15608
SEQUENCE:3
DTSTAMP:20260426T044026Z
URL:https://business.grantspasschamber.org/events/details/an-evening-with-aaron-auer-fruitdale-grange-02-04-2016-15608
END:VEVENT

END:VCALENDAR
