BEGIN:VCALENDAR
VERSION:2.0
PRODID:-//ChamberMaster//Event Calendar 2.0//EN
METHOD:PUBLISH
X-PUBLISHED-TTL:P3D
REFRESH-INTERVAL:P3D
CALSCALE:GREGORIAN
BEGIN:VEVENT
DTSTART:20160515T160000Z
DTEND:20160515T220000Z
X-MICROSOFT-CDO-ALLDAYEVENT:FALSE
SUMMARY:Antiques and Collectibles Street Fair 23rd Annual - 2016
DESCRIPTION:Dealers from the Northwest will display their wares.
X-ALT-DESC;FMTTYPE=text/html:Dealers from the Northwest will display their wares.
LOCATION:H Street between Fourth and Seventh Streets
UID:e.1818.15251
SEQUENCE:3
DTSTAMP:20260426T000348Z
URL:https://business.grantspasschamber.org/events/details/antiques-and-collectibles-street-fair-23rd-annual-2016-05-15-2016-15251
END:VEVENT

END:VCALENDAR
