BEGIN:VCALENDAR
VERSION:2.0
PRODID:-//ChamberMaster//Event Calendar 2.0//EN
METHOD:PUBLISH
X-PUBLISHED-TTL:P3D
REFRESH-INTERVAL:P3D
CALSCALE:GREGORIAN
BEGIN:VEVENT
DTSTART:20180520T150000Z
DTEND:20180520T220000Z
X-MICROSOFT-CDO-ALLDAYEVENT:FALSE
SUMMARY:Antiques and Collectibles Street Fair - 26th Annual H Street
DESCRIPTION:Dealers from the Northwest will display their wares\n\n\n\n"In The Heart of Historic Downtown Grants Pass"
X-ALT-DESC;FMTTYPE=text/html:<br />\n<strong>Dealers from the Northwest will display their wares<br />\n<br />\n&quot\;In The Heart of Historic Downtown Grants Pass&quot\;</strong>
LOCATION:H Street between Fourth and Seventh Streets Downtown Grants Pass
UID:e.1818.25104
SEQUENCE:3
DTSTAMP:20260424T030111Z
URL:https://business.grantspasschamber.org/events/details/antiques-and-collectibles-street-fair-26th-annual-h-street-25104
END:VEVENT

END:VCALENDAR
