BEGIN:VCALENDAR
VERSION:2.0
PRODID:-//ChamberMaster//Event Calendar 2.0//EN
METHOD:PUBLISH
X-PUBLISHED-TTL:P3D
REFRESH-INTERVAL:P3D
CALSCALE:GREGORIAN
BEGIN:VEVENT
DTSTART:20200414T180000Z
DTEND:20200415T061500Z
X-MICROSOFT-CDO-ALLDAYEVENT:FALSE
SUMMARY:Joy Hiler Arbonne Acne 101
DESCRIPTION:Please join me on Facebook live and find out everything you may have ever wanted to know about acne....prevention \,treatment and the aftermath!!!\n\n\n\nIf you miss it please find it on my story!
X-ALT-DESC;FMTTYPE=text/html:Please join me on Facebook live and find out everything you may have ever wanted to know about acne....prevention \,treatment and the aftermath!!!<br />\n<br />\nIf you miss it please find it on my story!<br />\n<br />\n&nbsp\;
LOCATION:Facebook Live!
UID:e.1818.33382
SEQUENCE:3
DTSTAMP:20260424T025011Z
URL:https://business.grantspasschamber.org/events/details/ar-33382
END:VEVENT

END:VCALENDAR
