BEGIN:VCALENDAR
VERSION:2.0
PRODID:-//ChamberMaster//Event Calendar 2.0//EN
METHOD:PUBLISH
X-PUBLISHED-TTL:P3D
REFRESH-INTERVAL:P3D
CALSCALE:GREGORIAN
BEGIN:VEVENT
DTSTART:20200430T180000Z
DTEND:20200501T061500Z
X-MICROSOFT-CDO-ALLDAYEVENT:FALSE
SUMMARY:Arbonne Disentegration Time Standard - Joy Hiler
DESCRIPTION:Please join me on Facebook live and find  out what Disentegration Time Standard is and how it affects you!!!\n\n\n\nIf you miss it please find it on my story!
X-ALT-DESC;FMTTYPE=text/html:Please join me on Facebook live and find&nbsp\; out what Disentegration Time Standard is and how it affects you!!!<br />\n<br />\nIf you miss it please find it on my story!<br />\n<br />\n&nbsp\;
LOCATION:Facebook Live!
UID:e.1818.33414
SEQUENCE:3
DTSTAMP:20260424T050748Z
URL:https://business.grantspasschamber.org/events/details/arbonne-disentegration-time-standard-joy-hiler-33414
END:VEVENT

END:VCALENDAR
