BEGIN:VCALENDAR
VERSION:2.0
PRODID:-//ChamberMaster//Event Calendar 2.0//EN
METHOD:PUBLISH
X-PUBLISHED-TTL:P3D
REFRESH-INTERVAL:P3D
CALSCALE:GREGORIAN
BEGIN:VEVENT
DTSTART:20160409T190000Z
DTEND:20160409T190000Z
X-MICROSOFT-CDO-ALLDAYEVENT:FALSE
SUMMARY:Arena Wars (MMA)
DESCRIPTION:Arena Wars Redemption MMA Cage Fighting\n\n\n\nSee Wild River Pub\, Oregon Mattress Authority\, and Anytime Fitness in Grants Pass to purchase tickets or contact Rogue Promotions 541
X-ALT-DESC;FMTTYPE=text/html:<strong>Arena Wars Redemption MMA Cage Fighting<br />\n<br />\n<u>See Wild River Pub\, Oregon Mattress Authority\, and Anytime Fitness in Grants Pass to purchase tickets or contact Rogue Promotions 541</u></strong>
LOCATION:Josephine County Fairgrounds 1451 Fairgrounds Road Grants Pass
UID:e.1818.17235
SEQUENCE:3
DTSTAMP:20260426T013528Z
URL:https://business.grantspasschamber.org/events/details/arena-wars-mma-04-09-2016-17235
END:VEVENT

END:VCALENDAR
