BEGIN:VCALENDAR
VERSION:2.0
PRODID:-//ChamberMaster//Event Calendar 2.0//EN
METHOD:PUBLISH
X-PUBLISHED-TTL:P3D
REFRESH-INTERVAL:P3D
CALSCALE:GREGORIAN
BEGIN:VEVENT
DTSTART;VALUE=DATE:20161008
DTEND;VALUE=DATE:20161010
TRANSP:TRANSPARENT
X-MICROSOFT-CDO-ALLDAYEVENT:TRUE
SUMMARY:Art Along the Rogue ~ 14th Annual
DESCRIPTION:The Grants Pass "Art Along the Rogue" is the  14th annual art and music festival includes chalk art street painting and musical performances.\n\n\n\n2016 Theme:  "Legends"  Legends in music & arts\n\n\n\nApplications for Artist are available at www.artalongtherogue.com\n\n\n\nKick Off Concert Starts August 7th @ First Friday Live @ 6pm
X-ALT-DESC;FMTTYPE=text/html:<strong>The Grants Pass <em><span style="font-size:14px\;"><u>&quot\;Art Along the Rogue&quot\;</u></span></em> is the&nbsp\; 14th annual art and music festival includes chalk art street painting and musical performances.<br />\n<br />\n2016 Theme:&nbsp\; <em><span style="font-size:18px\;">&quot\;<u>Legends</u>&quot\;</span></em>&nbsp\; Legends in music &amp\; arts<br />\n<br />\n<span style="color:#FF0000\;">Applications for Artist are available at</span> www.artalongtherogue.com<br />\n<br />\n<u>Kick Off Concert Starts August 7th</u> @ First Friday Live @ 6pm</strong>
LOCATION:Fifth and H Streets Downtown Grants Pass
UID:e.1818.15509
SEQUENCE:3
DTSTAMP:20260425T163344Z
URL:https://business.grantspasschamber.org/events/details/art-along-the-rogue-14th-annual-10-08-2016-15509
END:VEVENT

END:VCALENDAR
