BEGIN:VCALENDAR
VERSION:2.0
PRODID:-//ChamberMaster//Event Calendar 2.0//EN
METHOD:PUBLISH
X-PUBLISHED-TTL:P3D
REFRESH-INTERVAL:P3D
CALSCALE:GREGORIAN
BEGIN:VEVENT
DTSTART;VALUE=DATE:20161112
DTEND;VALUE=DATE:20161114
TRANSP:TRANSPARENT
X-MICROSOFT-CDO-ALLDAYEVENT:TRUE
SUMMARY:Art & Chockolate Festival
DESCRIPTION:Holiday Art & Chocolate Festival\n\nThe Holiday Art & Chocolate Festival is an annual event in Grants Pass\, Oregon\, where people can buy locally made art\, finer crafts and handmade chocolate!\n\n\n\nIt's a fun festival to bring family and friends to enjoy locally handmade gifts of art\, fine crafts and chocolate!
X-ALT-DESC;FMTTYPE=text/html:<u><strong>Holiday Art &amp\; Chocolate Festival</strong></u>\n\n<div class="_3-8w" style="margin-top: 4px\; font-family: inherit\;">The Holiday Art &amp\; Chocolate Festival is an annual event in Grants Pass\, Oregon\, where people can buy locally made art\, finer crafts and handmade chocolate!<br />\n<br />\n<span style="color: rgb(29\, 33\, 41)\; font-family: Helvetica\, Arial\, sans-serif\; font-size: 14px\; font-style: normal\; font-variant-ligatures: normal\; font-variant-caps: normal\; font-weight: normal\; letter-spacing: normal\; orphans: 2\; text-align: start\; text-indent: 0px\; text-transform: none\; white-space: normal\; widows: 2\; word-spacing: 0px\; -webkit-text-stroke-width: 0px\; background-color: rgb(255\, 255\, 255)\; display: inline !important\; float: none\;">It&#39\;s a fun festival to bring family and friends to enjoy locally handmade gifts of art\, fine crafts and chocolate!</span></div>\n
LOCATION:Grants Pass High School 830 NE 9th St
UID:e.1818.18046
SEQUENCE:3
DTSTAMP:20260425T143927Z
URL:https://business.grantspasschamber.org/events/details/art-chockolate-festival-18046
END:VEVENT

END:VCALENDAR
