BEGIN:VCALENDAR
VERSION:2.0
PRODID:-//ChamberMaster//Event Calendar 2.0//EN
METHOD:PUBLISH
X-PUBLISHED-TTL:P3D
REFRESH-INTERVAL:P3D
CALSCALE:GREGORIAN
BEGIN:VEVENT
DTSTART;VALUE=DATE:20180127
DTEND;VALUE=DATE:20180128
TRANSP:TRANSPARENT
X-MICROSOFT-CDO-ALLDAYEVENT:TRUE
SUMMARY:ASIAN ANTIQUITIES\, FINE JEWELRY & COLLECTABLES AUCTION
DESCRIPTION:ROGUE OREGON AUCTIONEERS\n\nASIAN ANTIQUITIES\, FINE JEWELRY & COLLECTABLES AUCTION\n\nSATURDAY\n\nJan 27th - 10 A.M.\n\n****Preview Jan 26th 1-4 P.M.****\n\n \n\nArtifacts\, Asian Antiques\, Fine Jewelry\, Art\, Earthenware\, Antique/Vintage Buddha Statues \n\n& Collectables!\n\n\n*BID LIVE OR ONLINE! ALL WILL SELL TO THE HIGHEST BIDDER REGARDLESS OF PRICE!! 10% BUYERS PREMIUM.\n\nCALL OR TEXT #541-450-2937
X-ALT-DESC;FMTTYPE=text/html:<div style="text-align:center"><br />\n<strong><span style="color:rgb(34\, 34\, 34)\; font-family:bitstream vera serif\,times new roman\,serif\; font-size:medium"><span style="font-size:24px">ROGUE OREGON AUCTIONEERS</span><br />\nASIAN ANTIQUITIES\, FINE JEWELRY &amp\; COLLECTABLES AUCTION</span></strong><br />\n<em><span style="color:rgb(34\, 34\, 34)\; font-family:bitstream vera serif\,times new roman\,serif\; font-size:medium">SATURDAY</span></em><br />\n<strong><span style="color:rgb(34\, 34\, 34)\; font-family:bitstream vera serif\,times new roman\,serif\; font-size:medium">Jan 27th - 10 A.M.</span></strong><br />\n<span style="font-size:12px"><span style="color:rgb(34\, 34\, 34)\; font-family:bitstream vera serif\,times new roman\,serif">****Preview Jan 26th 1-4 P.M.****</span></span><br />\n&nbsp\;</div>\n\n<div style="text-align:center"><span style="color:rgb(34\, 34\, 34)\; font-family:bitstream vera serif\,times new roman\,serif\; font-size:medium">Artifacts\, Asian Antiques\, Fine Jewelry\, Art\, Earthenware\, Antique/Vintage Buddha Statues&nbsp\;</span><br />\n<span style="color:rgb(34\, 34\, 34)\; font-family:bitstream vera serif\,times new roman\,serif\; font-size:medium">&amp\; Collectables!</span></div>\n<br />\n<span style="font-size:12px"><em><span style="color:rgb(34\, 34\, 34)\; font-family:bitstream vera serif\,times new roman\,serif">*<strong>BID LIVE OR ONLINE</strong>! ALL WILL SELL TO THE HIGHEST BIDDER REGARDLESS OF PRICE!! 10% BUYERS PREMIUM.</span></em></span>\n\n<div style="text-align:center"><span style="color:rgb(34\, 34\, 34)\; font-family:bitstream vera serif\,times new roman\,serif\; font-size:medium">CALL OR TEXT #541-450-2937</span></div>\n
LOCATION:LIVE LOCATION: 1341 ROGUE RIVER HIGHWAY GRANTS PASS\, OR 97527 BID ONLINE NOW
UID:e.1818.25062
SEQUENCE:3
DTSTAMP:20260424T114824Z
URL:https://business.grantspasschamber.org/events/details/asian-antiquities-fine-jewelry-collectables-auction-25062
END:VEVENT

END:VCALENDAR
