BEGIN:VCALENDAR
VERSION:2.0
PRODID:-//ChamberMaster//Event Calendar 2.0//EN
METHOD:PUBLISH
X-PUBLISHED-TTL:P3D
REFRESH-INTERVAL:P3D
CALSCALE:GREGORIAN
BEGIN:VEVENT
DTSTART:20160330T190000Z
DTEND:20160330T220000Z
X-MICROSOFT-CDO-ALLDAYEVENT:FALSE
SUMMARY:Aspire Job Fair
DESCRIPTION:Aspire is hiring for multiple great positions!\n\nFull-time\, Part-time and varied shifts available.
X-ALT-DESC;FMTTYPE=text/html:<strong>Aspire is hiring for multiple great&nbsp\;positions!<br />\nFull-time\, Part-time and varied shifts available.</strong>
LOCATION:WorkSource Rogue Valley 1569 NE F St. Grants Pass\, OR 97526
UID:e.1818.17146
SEQUENCE:3
DTSTAMP:20260426T030651Z
URL:https://business.grantspasschamber.org/events/details/aspire-job-fair-03-30-2016-17146
END:VEVENT

END:VCALENDAR
