BEGIN:VCALENDAR
VERSION:2.0
PRODID:-//ChamberMaster//Event Calendar 2.0//EN
METHOD:PUBLISH
X-PUBLISHED-TTL:P3D
REFRESH-INTERVAL:P3D
CALSCALE:GREGORIAN
BEGIN:VEVENT
DTSTART:20160414T013000Z
DTEND:20160415T040000Z
X-MICROSOFT-CDO-ALLDAYEVENT:FALSE
SUMMARY:Auditions for The Prodigals
DESCRIPTION:Auditions for The Prodigals musical written by John Sleadd\, produced by Clarion Theatre Company. Bring a bio\, a picture\, and a song to sing. Synopsis of "The Prodigals": Ferrell Prodigal\, raised by an upstanding\, wealthy father\, is destined to inherit a fortune if he manages it well. He falls under the influence of Pint Ashby\, who convinces him to demand his inheritance early. As it is with the Biblical parable\, Ferrell soon finds himself destitute. Love awaits him when he returns\, but with tragic consequences. This tender story of rebellion\, ruin\, romance\, and reconciliation will endear and inspire the human heart.
X-ALT-DESC;FMTTYPE=text/html:<strong>Auditions for The Prodigals musical written by John Sleadd\, produced by Clarion Theatre Company. Bring a bio\, a picture\, and a song to sing. Synopsis of &quot\;The Prodigals&quot\;: Ferrell Prodigal\, raised by an upstanding\, wealthy father\, is destined to inherit a fortune if he manages it well. He falls under the influence of Pint Ashby\, who convinces him to demand his inheritance early. As it is with the Biblical parable\, Ferrell soon finds himself destitute. Love awaits him when he returns\, but with tragic consequences. This tender story of rebellion\, ruin\, romance\, and reconciliation will endear and inspire the human heart.</strong>
LOCATION:Gateway Household of Faith\, 4335 Williams Hwy\, Grants Pass\, OR 997527
UID:e.1818.16865
SEQUENCE:3
DTSTAMP:20260426T013346Z
URL:https://business.grantspasschamber.org/events/details/auditions-for-the-prodigals-04-13-2016-16865
END:VEVENT

END:VCALENDAR
