BEGIN:VCALENDAR
VERSION:2.0
PRODID:-//ChamberMaster//Event Calendar 2.0//EN
METHOD:PUBLISH
X-PUBLISHED-TTL:P3D
REFRESH-INTERVAL:P3D
CALSCALE:GREGORIAN
BEGIN:VEVENT
DTSTART;VALUE=DATE:20160720
DTEND;VALUE=DATE:20160726
TRANSP:TRANSPARENT
X-MICROSOFT-CDO-ALLDAYEVENT:TRUE
SUMMARY:Automobile Sales Event at the Fairgrounds~ Jim Sigel
DESCRIPTION:New & Used Car Sale of the Year ~ 6 Days Only\n\nJuly 20th to July 25th\n\nHot Deals on New Nissan's\, Chevy's\, and Honda's \n\nat Jim Sigel Auto Sales Event\n\n \n\n\n 300 New & Used Vehicles from auction and\n\n dozens more from local trades and 1-owners\n\nCome see Jim Sigel at\n\nJosephine County Fairgrounds\n\n1451 Fairgrounds Rd\n\n\n\nCredit Problems ???\n\nWe finance your future\, not your past !
X-ALT-DESC;FMTTYPE=text/html:<div style="color: rgb(76\, 76\, 76)\; font-family: Tahoma\, Arial\, sans-serif\; font-size: 13.3333px\; font-style: normal\; font-variant: normal\; font-weight: normal\; letter-spacing: normal\; line-height: normal\; orphans: auto\; text-align: -webkit-left\; text-indent: 0px\; text-transform: none\; white-space: normal\; widows: 1\; word-spacing: 0px\; -webkit-text-stroke-width: 0px\; background-color: rgb(225\, 225\, 225)\;">\n<div _mce_style="text-align: center\; font-size: 18pt\; font-family: &quot\;Trebuchet MS&quot\;\, Verdana\, Helvetica\, sans-serif\; color: #294d89\;" align="center" style="text-align: center\; font-size: 18pt\; font-family: &quot\;Trebuchet MS&quot\;\, Verdana\, Helvetica\, sans-serif\; color: rgb(41\, 77\, 137)\;"><span _mce_style="color: #000000\; font-size: 18pt\; text-decoration: underline\;" style="color: rgb(0\, 0\, 0)\; font-size: 18pt\; text-decoration: underline\;"><b>New &amp\; Used Car Sale of the Year ~ 6 Days Only</b></span></div>\n\n<div _mce_style="text-align: center\; font-size: 18pt\; font-family: &quot\;Trebuchet MS&quot\;\, Verdana\, Helvetica\, sans-serif\; color: #294d89\;" align="center" style="text-align: center\; font-size: 18pt\; font-family: &quot\;Trebuchet MS&quot\;\, Verdana\, Helvetica\, sans-serif\; color: rgb(41\, 77\, 137)\;"><b _mce_style="color: #ff0000\; font-size: 26pt\;" style="color: rgb(255\, 0\, 0)\; font-size: 26pt\;">July 20th to July 25th</b></div>\n\n<div _mce_style="text-align: center\; color: #000000\; font-size: 14pt\;" align="center" style="text-align: center\; color: rgb(0\, 0\, 0)\; font-size: 14pt\;">Hot Deals on New Nissan&#39\;s\, Chevy&#39\;s\, and Honda&#39\;s&nbsp\;</div>\n\n<div _mce_style="text-align: center\; color: #000000\; font-size: 14pt\;" align="center" style="text-align: center\; color: rgb(0\, 0\, 0)\; font-size: 14pt\;">at Jim Sigel Auto Sales Event</div>\n\n<div _mce_style="text-align: center\; color: #000000\; font-size: 14pt\;" align="center" style="text-align: center\; color: rgb(0\, 0\, 0)\; font-size: 14pt\;">&nbsp\;</div>\n</div>\n\n<div _mce_style="text-align: center\; color: #000000\; font-size: 14pt\;" align="center" style="font-family: Tahoma\, Arial\, sans-serif\; font-style: normal\; font-variant: normal\; font-weight: normal\; letter-spacing: normal\; line-height: normal\; orphans: auto\; text-indent: 0px\; text-transform: none\; white-space: normal\; widows: 1\; word-spacing: 0px\; -webkit-text-stroke-width: 0px\; text-align: center\; color: rgb(0\, 0\, 0)\; font-size: 14pt\; background-color: rgb(225\, 225\, 225)\;">&nbsp\;300 New &amp\; Used Vehicles from auction and</div>\n\n<div _mce_style="text-align: center\; color: #000000\; font-size: 14pt\;" align="center" style="font-family: Tahoma\, Arial\, sans-serif\; font-style: normal\; font-variant: normal\; font-weight: normal\; letter-spacing: normal\; line-height: normal\; orphans: auto\; text-indent: 0px\; text-transform: none\; white-space: normal\; widows: 1\; word-spacing: 0px\; -webkit-text-stroke-width: 0px\; text-align: center\; color: rgb(0\, 0\, 0)\; font-size: 14pt\; background-color: rgb(225\, 225\, 225)\;">&nbsp\;dozens more from local trades and 1-owners</div>\n\n<div _mce_style="text-align: center\;" align="center" style="color: rgb(76\, 76\, 76)\; font-family: Tahoma\, Arial\, sans-serif\; font-size: 13.3333px\; font-style: normal\; font-variant: normal\; font-weight: normal\; letter-spacing: normal\; line-height: normal\; orphans: auto\; text-indent: 0px\; text-transform: none\; white-space: normal\; widows: 1\; word-spacing: 0px\; -webkit-text-stroke-width: 0px\; text-align: center\; background-color: rgb(225\, 225\, 225)\;"><strong _mce_style="color: #ff0000\; font-size: 18pt\;" style="color: rgb(255\, 0\, 0)\; font-size: 18pt\;">Come see Jim Sigel at</strong></div>\n\n<div _mce_style="text-align: center\; font-size: 14pt\;" align="center" style="color: rgb(76\, 76\, 76)\; font-family: Tahoma\, Arial\, sans-serif\; font-style: normal\; font-variant: normal\; font-weight: normal\; letter-spacing: normal\; line-height: normal\; orphans: auto\; text-indent: 0px\; text-transform: none\; white-space: normal\; widows: 1\; word-spacing: 0px\; -webkit-text-stroke-width: 0px\; text-align: center\; font-size: 14pt\; background-color: rgb(225\, 225\, 225)\;"><strong>Josephine County Fairgrounds</strong></div>\n\n<div _mce_style="text-align: center\; font-size: 14pt\;" align="center" style="color: rgb(76\, 76\, 76)\; font-family: Tahoma\, Arial\, sans-serif\; font-style: normal\; font-variant: normal\; font-weight: normal\; letter-spacing: normal\; line-height: normal\; orphans: auto\; text-indent: 0px\; text-transform: none\; white-space: normal\; widows: 1\; word-spacing: 0px\; -webkit-text-stroke-width: 0px\; text-align: center\; font-size: 14pt\; background-color: rgb(225\, 225\, 225)\;"><strong>1451 Fairgrounds Rd</strong></div>\n\n<div _mce_style="text-align: center\; font-size: 14pt\;" align="center" style="color: rgb(76\, 76\, 76)\; font-family: Tahoma\, Arial\, sans-serif\; font-style: normal\; font-variant: normal\; font-weight: normal\; letter-spacing: normal\; line-height: normal\; orphans: auto\; text-indent: 0px\; text-transform: none\; white-space: normal\; widows: 1\; word-spacing: 0px\; -webkit-text-stroke-width: 0px\; text-align: center\; font-size: 14pt\; background-color: rgb(225\, 225\, 225)\;"><br />\nCredit Problems ???<br />\nWe finance your future\, not your past !<br />\n&nbsp\;</div>\n
LOCATION:Josephine County Fairgrounds 1451 Fairgrounds Rd Grants Pass
UID:e.1818.17676
SEQUENCE:3
DTSTAMP:20260425T210806Z
URL:https://business.grantspasschamber.org/events/details/automobile-sales-event-at-the-fairgrounds-jim-sigel-07-20-2016-17676
END:VEVENT

END:VCALENDAR
