BEGIN:VCALENDAR
VERSION:2.0
PRODID:-//ChamberMaster//Event Calendar 2.0//EN
METHOD:PUBLISH
X-PUBLISHED-TTL:P3D
REFRESH-INTERVAL:P3D
CALSCALE:GREGORIAN
BEGIN:VEVENT
DTSTART:20161115T010000Z
DTEND:20161115T030000Z
X-MICROSOFT-CDO-ALLDAYEVENT:FALSE
SUMMARY:AUTUMN SOUPS
DESCRIPTION:Fall is in the air and soup is on the menu.\n\n\n\nCome and enjoy a few "New to You" autumn soup recipes that won't break the bank or your waist line.\n\n\n\nFREE COOKING CLASS! Class includes recipes as well as samples of each item prepared. Classes will be held in the Demonstration Kitchen on the 4th Floor of the Asante Center for Outpatient Health located at 537 SW Union Avenue in Grants Pass.\n\n\n\nSpace is limited\, reservations are required. Please call and reserve your seat at 541-471-4208.
X-ALT-DESC;FMTTYPE=text/html:<strong>Fall is in the air and soup is on the menu.<br />\n<br />\nCome and enjoy a few &quot\;New to You&quot\; autumn soup recipes that won&#39\;t break the bank or your waist line.<br />\n<br />\nFREE COOKING CLASS! Class includes recipes as well as samples of each item prepared. Classes will be held in the Demonstration Kitchen on the 4th Floor of the Asante Center for Outpatient Health located at 537 SW Union Avenue in Grants Pass.<br />\n<br />\nSpace is limited\, reservations are required. Please call and reserve your seat at 541-471-4208.</strong>
LOCATION:Asante Center for Outpatient Health 537 SW Union Ave Grants Pass\, OR 97527 Demonstration Kitchen\, Fourth Floor Straight ahead off the elevator
UID:e.1818.17847
SEQUENCE:3
DTSTAMP:20260425T143056Z
URL:https://business.grantspasschamber.org/events/details/autumn-soups-17847
END:VEVENT

END:VCALENDAR
