BEGIN:VCALENDAR
VERSION:2.0
PRODID:-//ChamberMaster//Event Calendar 2.0//EN
METHOD:PUBLISH
X-PUBLISHED-TTL:P3D
REFRESH-INTERVAL:P3D
CALSCALE:GREGORIAN
BEGIN:VEVENT
DTSTART:20160805T230000Z
DTEND:20160806T030000Z
X-MICROSOFT-CDO-ALLDAYEVENT:FALSE
SUMMARY:Back to School Carnival at the Gospel Rescue Mission
DESCRIPTION:A Community Carnival at the Gospel Rescue Mission: bounce house\, ice cream\, games\, dunk tank\, BBQ\, live music\, and more!\n\n\n\nBenefits Local School Aged children & Gospel Rescue Mission Programs
X-ALT-DESC;FMTTYPE=text/html:<strong>A Community Carnival at the Gospel Rescue Mission: bounce house\, ice cream\, games\, dunk tank\, BBQ\, live music\, and more!<br />\n<br />\nBenefits Local School Aged children &amp\; Gospel Rescue Mission Programs </strong>
LOCATION:Gospel Rescue Mission 540 S.W. Foundry Street\, Grants Pass\, OR 97526
UID:e.1818.17603
SEQUENCE:3
DTSTAMP:20260425T192815Z
URL:https://business.grantspasschamber.org/events/details/back-to-school-carnival-at-the-gospel-rescue-mission-08-05-2016-17603
END:VEVENT

END:VCALENDAR
