BEGIN:VCALENDAR
VERSION:2.0
PRODID:-//ChamberMaster//Event Calendar 2.0//EN
METHOD:PUBLISH
X-PUBLISHED-TTL:P3D
REFRESH-INTERVAL:P3D
CALSCALE:GREGORIAN
BEGIN:VEVENT
DTSTART:20160506T190000Z
DTEND:20160508T190000Z
X-MICROSOFT-CDO-ALLDAYEVENT:FALSE
SUMMARY:Barnstormers ~ Cemetery Club
DESCRIPTION:The Cemetery Club is a funny\, sweet tempered and moving play that follows three Queens\, NY\, widows who meet each month at the graves of their deceased husbands. It is a story about love\, friendship and how they endure conflict and loss through time with some tears and lost of humor\n\n\n\n By Ivan Menchell. Directed by Nancy Ryan.
X-ALT-DESC;FMTTYPE=text/html:The Cemetery Club is a funny\, sweet tempered and moving play that follows three Queens\, NY\, widows who meet each month at the graves of their deceased husbands. It is a story about love\, friendship and how they endure conflict and loss through time with some tears and lost of humor<br />\n<br />\n&nbsp\;By Ivan Menchell. Directed by Nancy Ryan.
LOCATION:Barnstormers Theatre 112 NE Evelyn Ave Grants Pass OR 97526
UID:e.1818.15787
SEQUENCE:3
DTSTAMP:20260426T000234Z
URL:https://business.grantspasschamber.org/events/details/barnstormers-cemetery-club-05-06-2016-15787
END:VEVENT

END:VCALENDAR
