BEGIN:VCALENDAR
VERSION:2.0
PRODID:-//ChamberMaster//Event Calendar 2.0//EN
METHOD:PUBLISH
X-PUBLISHED-TTL:P3D
REFRESH-INTERVAL:P3D
CALSCALE:GREGORIAN
BEGIN:VEVENT
DTSTART:20161112T033000Z
DTEND:20161112T050000Z
X-MICROSOFT-CDO-ALLDAYEVENT:FALSE
SUMMARY:Barnstormers ~ Storytellers Music Series
DESCRIPTION:Pete Herzog. "Steel Guitar - A Blues Odyssey" a folk opera of 22 original songs that tell a story.
X-ALT-DESC;FMTTYPE=text/html:<strong>Pete Herzog. &quot\;Steel Guitar - A Blues Odyssey&quot\; a folk opera of 22 original songs that tell a story.</strong>
LOCATION:Barnstormers Theatre 112 NE Evelyn Avenue Grants Pass OR 97526
UID:e.1818.17880
SEQUENCE:3
DTSTAMP:20260425T145114Z
URL:https://business.grantspasschamber.org/events/details/barnstormers-storytellers-music-series-17880
END:VEVENT

END:VCALENDAR
