BEGIN:VCALENDAR
VERSION:2.0
PRODID:-//ChamberMaster//Event Calendar 2.0//EN
METHOD:PUBLISH
X-PUBLISHED-TTL:P3D
REFRESH-INTERVAL:P3D
CALSCALE:GREGORIAN
BEGIN:VEVENT
DTSTART:20180324T023000Z
DTEND:20180324T043000Z
X-MICROSOFT-CDO-ALLDAYEVENT:FALSE
SUMMARY:Barnstormers ~ Storytellers Music Series 3/23/18
DESCRIPTION:The Brothers Reed\n\nFamilial folk from Southern Oregon\, With their comedic brotherly banter\, impeccable harmonic expression\, and widely varying influences\, a Brothers Reed performance will have you reflecting on lost lives and lovers\, laughing hysterically and leaving completely entertained.\n\nThis unique concert series presents singer-songwriters playing original music in an intimate\, all-acoustic setting\, and telling the stories behind those songs. The series is a partnership between Barnstormers and local musician and community music enthusiast Mike Smith\, who envisioned the project after his first visit to Barnstormers a few years ago. The partnership is a natural fit of storytelling and artistry in perfect venue for acoustic music.\n\n2017-2018 season features 12 shows. Season reserved seats for all 12 shows are only $150. Single show tickets are $15. Shows start at 7:30pm.
X-ALT-DESC;FMTTYPE=text/html:<h3><strong>The Brothers Reed</strong></h3>\n\n<p>Familial folk from Southern Oregon\, With their comedic brotherly banter\, impeccable harmonic expression\, and widely varying influences\, a Brothers Reed performance will have you reflecting on lost lives and lovers\, laughing hysterically and leaving completely entertained.</p>\n\n<p>This unique concert series presents singer-songwriters playing original music in an intimate\, all-acoustic setting\, and telling the stories behind those songs. The series is a partnership between Barnstormers and local musician and community music enthusiast Mike Smith\, who envisioned the project after his first visit to Barnstormers a few years ago. The partnership is a natural fit of storytelling and artistry in perfect venue for acoustic music.</p>\n\n<p>2017-2018 season features 12 shows. Season reserved seats for all 12 shows are only $150. Single show tickets are $15. Shows start at 7:30pm.</p>\n
LOCATION:Barnstormers Theatre 112 NE Evelyn Avenue Grants Pass OR 97526
UID:e.1818.24824
SEQUENCE:3
DTSTAMP:20260424T071034Z
URL:https://business.grantspasschamber.org/events/details/barnstormers-storytellers-music-series-3-23-18-24824
END:VEVENT

END:VCALENDAR
