BEGIN:VCALENDAR
VERSION:2.0
PRODID:-//ChamberMaster//Event Calendar 2.0//EN
METHOD:PUBLISH
X-PUBLISHED-TTL:P3D
REFRESH-INTERVAL:P3D
CALSCALE:GREGORIAN
BEGIN:VEVENT
DTSTART;VALUE=DATE:20160429
DTEND;VALUE=DATE:20160430
TRANSP:TRANSPARENT
X-MICROSOFT-CDO-ALLDAYEVENT:TRUE
SUMMARY:Barnstormers ~ The Cemetery Club
DESCRIPTION:Three Jewish widows meet once a month for tea before going to visit their husband's graves.\n\n\n\nRunning April 22 - May 8\, Friday and Saturday shows begin at 7:30 PM and Sunday shows begin at 2:00 PM.
X-ALT-DESC;FMTTYPE=text/html:<strong>Three Jewish widows meet once a month for tea before going to visit their husband&#39\;s graves.<br />\n<br />\nRunning April 22 - May 8\, Friday and Saturday shows begin at 7:30 PM and Sunday shows begin at 2:00 PM.</strong>
LOCATION:Barnstormers Theatre 112 Northeast Evelyn Avenue
UID:e.1818.15593
SEQUENCE:3
DTSTAMP:20260426T013708Z
URL:https://business.grantspasschamber.org/events/details/barnstormers-the-cemetery-club-04-29-2016-15593
END:VEVENT

END:VCALENDAR
