BEGIN:VCALENDAR
VERSION:2.0
PRODID:-//ChamberMaster//Event Calendar 2.0//EN
METHOD:PUBLISH
X-PUBLISHED-TTL:P3D
REFRESH-INTERVAL:P3D
CALSCALE:GREGORIAN
BEGIN:VEVENT
DTSTART;VALUE=DATE:20180428
DTEND;VALUE=DATE:20180429
TRANSP:TRANSPARENT
X-MICROSOFT-CDO-ALLDAYEVENT:TRUE
SUMMARY:Barnstormers Theatre - 25th Annual Putnam County Spelling Bee
DESCRIPTION:25th Annual Putnam County Spelling Bee\n\n\n\nBy Rebecca Feldman\, Jay Reiss\, Music by William Finn\,\n\nBook by Rachel Sheinkin\n\nDirected Michele Kyle\n\n \n\nA riotous ride\, complete with audience participation\, The 25th Annual Putnam County Spelling Bee is a delightful den of comedic genius. An eclectic group of six mid-pubescents vie for the spelling championship of a lifetime. While candidly disclosing hilarious and touching stories from their home lives\, the tweens spell their way through a series of (potentially made-up) words\, hoping never to hear the soul-crushing\, pout-inducing\, life un-affirming "ding" of the bell that signals a spelling mistake. Six spellers enter\; one speller leaves!
X-ALT-DESC;FMTTYPE=text/html:<br />\n<strong><span style="font-family:cambria">25<sup>th</sup> Annual Putnam County Spelling Bee</span></strong><br />\n<br />\n<strong><span style="font-family:cambria">By Rebecca Feldman\, Jay Reiss\, Music by William Finn\,<br />\nBook by Rachel Sheinkin</span></strong><br />\n<strong><span style="font-family:cambria">Directed Michele Kyle</span></strong><br />\n&nbsp\;<br />\n<span style="font-family:cambria">A riotous ride\, complete with audience participation\, <em>The 25th Annual Putnam County Spelling Bee</em> is a delightful den of comedic genius. An eclectic group of six mid-pubescents vie for the spelling championship of a lifetime. While candidly disclosing hilarious and touching stories from their home lives\, the tweens spell their way through a series of (potentially made-up) words\, hoping never to hear the soul-crushing\, pout-inducing\, life un-affirming &quot\;ding&quot\; of the bell that signals a spelling mistake. Six spellers enter\; one speller leaves! </span><br />\n&nbsp\;
LOCATION:Barnstormers Theatre 112 NE Evelyn Ave. Grants Pass\, OR 97526 541-479-3557
UID:e.1818.24971
SEQUENCE:3
DTSTAMP:20260424T051120Z
URL:https://business.grantspasschamber.org/events/details/barnstormers-theatre-25th-annual-putnam-county-spelling-bee-04-28-2018-24971
END:VEVENT

END:VCALENDAR
