BEGIN:VCALENDAR
VERSION:2.0
PRODID:-//ChamberMaster//Event Calendar 2.0//EN
METHOD:PUBLISH
X-PUBLISHED-TTL:P3D
REFRESH-INTERVAL:P3D
CALSCALE:GREGORIAN
BEGIN:VEVENT
DTSTART;VALUE=DATE:20160914
DTEND;VALUE=DATE:20160915
TRANSP:TRANSPARENT
X-MICROSOFT-CDO-ALLDAYEVENT:TRUE
SUMMARY:Barnstormers Theatre ~ Storytellers Showcase
DESCRIPTION:Storytellers Music Series Presents:  "Intuitive Compass"\n\n\n\nRagtime\, blues\, jug band\, \n\nwestern swing\, gypsy jazz \n\nand traditional folk music in \n\na modern style (Southern Oregon)
X-ALT-DESC;FMTTYPE=text/html:<strong>Storytellers Music Series Presents:&nbsp\; &quot\;Intuitive Compass&quot\;</strong><br />\n<br />\n<span style="color: rgb(204\, 204\, 204)\; font-family: Helvetica\, Arial\, sans-serif\; font-size: 16px\; font-style: normal\; font-variant-ligatures: normal\; font-variant-caps: normal\; font-weight: normal\; letter-spacing: normal\; line-height: 27.2px\; orphans: 2\; text-align: center\; text-indent: 0px\; text-transform: none\; white-space: normal\; widows: 2\; word-spacing: 0px\; -webkit-text-stroke-width: 0px\; display: inline !important\; float: none\; background-color: rgb(0\, 0\, 0)\;">Ragtime\, blues\, jug band\, </span><br style="color: rgb(204\, 204\, 204)\; font-family: Helvetica\, Arial\, sans-serif\; font-size: 16px\; font-style: normal\; font-variant-ligatures: normal\; font-variant-caps: normal\; font-weight: normal\; letter-spacing: normal\; line-height: 27.2px\; orphans: 2\; text-align: center\; text-indent: 0px\; text-transform: none\; white-space: normal\; widows: 2\; word-spacing: 0px\; -webkit-text-stroke-width: 0px\; background-color: rgb(0\, 0\, 0)\;" />\n<span style="color: rgb(204\, 204\, 204)\; font-family: Helvetica\, Arial\, sans-serif\; font-size: 16px\; font-style: normal\; font-variant-ligatures: normal\; font-variant-caps: normal\; font-weight: normal\; letter-spacing: normal\; line-height: 27.2px\; orphans: 2\; text-align: center\; text-indent: 0px\; text-transform: none\; white-space: normal\; widows: 2\; word-spacing: 0px\; -webkit-text-stroke-width: 0px\; display: inline !important\; float: none\; background-color: rgb(0\, 0\, 0)\;">western swing\, gypsy jazz </span><br style="color: rgb(204\, 204\, 204)\; font-family: Helvetica\, Arial\, sans-serif\; font-size: 16px\; font-style: normal\; font-variant-ligatures: normal\; font-variant-caps: normal\; font-weight: normal\; letter-spacing: normal\; line-height: 27.2px\; orphans: 2\; text-align: center\; text-indent: 0px\; text-transform: none\; white-space: normal\; widows: 2\; word-spacing: 0px\; -webkit-text-stroke-width: 0px\; background-color: rgb(0\, 0\, 0)\;" />\n<span style="color: rgb(204\, 204\, 204)\; font-family: Helvetica\, Arial\, sans-serif\; font-size: 16px\; font-style: normal\; font-variant-ligatures: normal\; font-variant-caps: normal\; font-weight: normal\; letter-spacing: normal\; line-height: 27.2px\; orphans: 2\; text-align: center\; text-indent: 0px\; text-transform: none\; white-space: normal\; widows: 2\; word-spacing: 0px\; -webkit-text-stroke-width: 0px\; display: inline !important\; float: none\; background-color: rgb(0\, 0\, 0)\;">and traditional folk music in </span><br style="color: rgb(204\, 204\, 204)\; font-family: Helvetica\, Arial\, sans-serif\; font-size: 16px\; font-style: normal\; font-variant-ligatures: normal\; font-variant-caps: normal\; font-weight: normal\; letter-spacing: normal\; line-height: 27.2px\; orphans: 2\; text-align: center\; text-indent: 0px\; text-transform: none\; white-space: normal\; widows: 2\; word-spacing: 0px\; -webkit-text-stroke-width: 0px\; background-color: rgb(0\, 0\, 0)\;" />\n<span style="color: rgb(204\, 204\, 204)\; font-family: Helvetica\, Arial\, sans-serif\; font-size: 16px\; font-style: normal\; font-variant-ligatures: normal\; font-variant-caps: normal\; font-weight: normal\; letter-spacing: normal\; line-height: 27.2px\; orphans: 2\; text-align: center\; text-indent: 0px\; text-transform: none\; white-space: normal\; widows: 2\; word-spacing: 0px\; -webkit-text-stroke-width: 0px\; display: inline !important\; float: none\; background-color: rgb(0\, 0\, 0)\;">a modern style (Southern Oregon)</span><br />\n&nbsp\;
LOCATION:Barnstormers Theatre 112 NE Evelyn Ave Grants Pass
UID:e.1818.17812
SEQUENCE:3
DTSTAMP:20260425T181844Z
URL:https://business.grantspasschamber.org/events/details/barnstormers-theatre-storytellers-showcase-09-14-2016-17812
END:VEVENT

END:VCALENDAR
