BEGIN:VCALENDAR
VERSION:2.0
PRODID:-//ChamberMaster//Event Calendar 2.0//EN
METHOD:PUBLISH
X-PUBLISHED-TTL:P3D
REFRESH-INTERVAL:P3D
CALSCALE:GREGORIAN
BEGIN:VEVENT
DTSTART:20160304T200000Z
DTEND:20160306T200000Z
X-MICROSOFT-CDO-ALLDAYEVENT:FALSE
SUMMARY:Barnstormers ~ Urinetown
DESCRIPTION:While the name bay make you think this show is in the gutters\, it is anything but! Written by Greg Kotis an Mark Hollman\, it is a hilarious satire of both musical theater itself as well as larger issues. The story take place in a nameless city where drought has ravaged the city so thoroughly\, the people must pay to use the bathroom. A young man who always listens to his heart wants to be the change the people need. Can our intrepid hero save today? Better yet\, what about tomorrow? Directed by Davey Kashuba
X-ALT-DESC;FMTTYPE=text/html:While the name bay make you think this show is in the gutters\, it is anything but! Written by Greg Kotis an Mark Hollman\, it is a hilarious satire of both musical theater itself as well as larger issues. The story take place in a nameless city where drought has ravaged the city so thoroughly\, the people must pay to use the bathroom. A young man who always listens to his heart wants to be the change the people need. Can our intrepid hero save today? Better yet\, what about tomorrow? Directed by Davey Kashuba
LOCATION:Barnstormers Theatre 112 NE Evelyn Avenue Grants Pass OR 97526
UID:e.1818.15577
SEQUENCE:3
DTSTAMP:20260426T030440Z
URL:https://business.grantspasschamber.org/events/details/barnstormers-urinetown-03-04-2016-15577
END:VEVENT

END:VCALENDAR
