BEGIN:VCALENDAR
VERSION:2.0
PRODID:-//ChamberMaster//Event Calendar 2.0//EN
METHOD:PUBLISH
X-PUBLISHED-TTL:P3D
REFRESH-INTERVAL:P3D
CALSCALE:GREGORIAN
BEGIN:VEVENT
DTSTART:20160318T190000Z
DTEND:20160320T190000Z
X-MICROSOFT-CDO-ALLDAYEVENT:FALSE
SUMMARY:Barnstormers ~ Urinetown
DESCRIPTION:While the name may make you think this show is in the gutters\, it is anything but! Written by Greg Kotis and Mark Hollman\, it is a hilarious satire of both musical theater itself as well as larger issues. The story takes place in a nameless city where drought has ravaged the city so thoroughly\, the people must pay to use the bathroom. A young man who always listens to his heart wants to be the change the people need. Can our intrepid hero save today? Better yet\, what about tomorrow? Directed by Davey Kashuba
X-ALT-DESC;FMTTYPE=text/html:<strong>While the name may make you think this show is in the gutters\, it is anything but! Written by Greg Kotis and Mark Hollman\, it is a hilarious satire of both musical theater itself as well as larger issues. The story takes place in a nameless city where drought has ravaged the city so thoroughly\, the people must pay to use the bathroom. A young man who always listens to his heart wants to be the change the people need. Can our intrepid hero save today? Better yet\, what about tomorrow? Directed by Davey Kashuba</strong>
LOCATION:Barnstormers Theatre 112 NE Evelyn Ave. Grants Pass OR 97526
UID:e.1818.15298
SEQUENCE:3
DTSTAMP:20260426T030610Z
URL:https://business.grantspasschamber.org/events/details/barnstormers-urinetown-03-18-2016-15298
END:VEVENT

END:VCALENDAR
