BEGIN:VCALENDAR
VERSION:2.0
PRODID:-//ChamberMaster//Event Calendar 2.0//EN
METHOD:PUBLISH
X-PUBLISHED-TTL:P3D
REFRESH-INTERVAL:P3D
CALSCALE:GREGORIAN
BEGIN:VEVENT
DTSTART:20250323T010000Z
DTEND:20250323T030000Z
X-MICROSOFT-CDO-ALLDAYEVENT:FALSE
SUMMARY:Barrels & Bites: Schmidt Family Vineyards
DESCRIPTION:Join us for seated tasting event unlike all the others. We will be tasting 4 young wines straight from the barrel. These wines were just harvested fall of 2024 and are progressing so well. We will be serving each wine with a small dinner plate to compliment the flavors.\n\nMenu\n\n2024 Chardonnay Reserve - paired with sage\, apple and brie grilled cheese.\n\n- This wine is still being aged in the barrel and has gone through Malacotic fermentation giving it all that wonderful buttery chardonnay goodness.  This wine is great with wonderful lemon flavors and such great texture.\n\n2024 Grenache - paired with lamb with mint pesto and berry infused goat cheese\n\n- This is our first vintage of Grenache and we are so excited for it.  It is light\, smooth and delicate in the best way with just the right amount of acidity.\n\n2024 Syrah - paired with Beef Shoulder Tender with B arnaise sauce\n\n- this Syrah has great dark fruit flavors with a touch of roundness and the slightest hint of sweetness as it finishes.\n\n2024 Touriga Nacional - paired with a lavendar brownie\n\n- the wine is packed full of florals like violet\, lavender and chartreuse but somehow in a bold package that will be a fantastic way to finish out the night. \n\nOur usual food and wine menu will be available during the event.
X-ALT-DESC;FMTTYPE=text/html:<h3 style="color:var(--headingMediumColor)\; font-style:var(--heading-font-font-style)\; text-align:center"><span style="font-size:20px\;"><span style="font-family:var(--heading-font-font-family)">Join us for seated tasting event unlike all the others. We will be tasting 4 young wines straight from the barrel. These wines were just harvested fall of 2024 and are progressing so well. We will be serving each wine with a small dinner plate to compliment the flavors.</span></span></h3>\n\n<h3 style="text-align:center"><span style="font-size:20px\;">Menu</span></h3>\n\n<p><span style="font-size:20px\;"><span style="font-family:georgia"><strong>2024 Chardonnay Reserve</strong>&nbsp\;- paired with sage\, apple and brie grilled cheese.<br />\n- This wine is still being aged in the barrel and has gone through Malacotic fermentation giving it all that wonderful buttery chardonnay goodness.&nbsp\; This wine is great with wonderful lemon flavors and such great texture.</span></span></p>\n\n<p><span style="font-size:20px\;"><strong>2024 Grenache</strong><span style="font-family: georgia\;">&nbsp\;- paired with lamb with mint pesto and berry infused goat cheese</span><br />\n<span style="font-family: georgia\;">- This is our first vintage of Grenache and we are so excited for it.&nbsp\; It is light\, smooth and delicate in the best way with just the right amount of acidity.</span></span></p>\n\n<p><span style="font-size:20px\;"><strong>2024 Syrah</strong><span style="font-family: georgia\;">&nbsp\;- paired with Beef Shoulder Tender with B&eacute\;arnaise sauce</span><br />\n<span style="font-family: georgia\;">- this Syrah has great dark fruit flavors with a touch of roundness and the slightest hint of sweetness as it finishes.</span></span></p>\n\n<p><span style="font-size:20px\;"><strong>2024 Touriga Nacional</strong><span style="font-family: georgia\;">&nbsp\;- paired with a lavendar brownie</span><br />\n<span style="font-family: georgia\;">- the wine is packed full of florals like violet\, lavender and chartreuse but somehow in a bold package that will be a fantastic way to finish out the night.&nbsp\;</span></span></p>\n\n<h4><span style="font-size:20px\;">Our usual food and wine menu will be available during the event.</span></h4>\n
LOCATION:Schmidt Family Vineyards Tasting room 330 Kubli Rd Grants Pass\, OR 97527
UID:e.1818.54178
SEQUENCE:3
DTSTAMP:20260419T152535Z
URL:https://business.grantspasschamber.org/events/details/barrels-bites-schmidt-family-vineyards-54178
END:VEVENT

END:VCALENDAR
