BEGIN:VCALENDAR
VERSION:2.0
PRODID:-//ChamberMaster//Event Calendar 2.0//EN
METHOD:PUBLISH
X-PUBLISHED-TTL:P3D
REFRESH-INTERVAL:P3D
CALSCALE:GREGORIAN
BEGIN:VEVENT
DTSTART:20171218T190000Z
DTEND:20171222T230000Z
X-MICROSOFT-CDO-ALLDAYEVENT:FALSE
SUMMARY:Bear Hotel - The Southern Oregon Adventure
DESCRIPTION:Evergreen Federal Bank \n\nBEAR HOTEL presents\n\n\n\n"THE SOUTHERN OREGON ADVENTURE"\n\n\n\nEvergreen's Bear Hotel will be open to the public for holiday tours.\n\nSelf-Guided tours include games.\n\n\n\nDecember 18th - 22nd\n\n11 am - 3pm\n\n\n\nNo reservation is required. No Charge. Sorry no Santa at these times\n\nFor more information call Evergreen at (541) 479-3351 and ask for the Bear Hotel.
X-ALT-DESC;FMTTYPE=text/html:<br />\n<strong>Evergreen Federal Bank&nbsp\;<br />\nBEAR HOTEL <em>presents</em><br />\n<br />\n&quot\;THE SOUTHERN OREGON ADVENTURE&quot\;<br />\n<br />\nEvergreen&#39\;s Bear Hotel will be open to the public for holiday tours.<br />\nSelf-Guided tours include games.<br />\n<br />\nDecember 18th - 22nd<br />\n11 am - 3pm<br />\n<br />\nNo reservation is required. No Charge. Sorry no Santa at these times<br />\nFor more information call Evergreen at (541) 479-3351 and ask for the Bear Hotel.</strong>
LOCATION:Evergreen Federal Bank's BEAR HOTEL 2101 NE Spaulding Ave Grants Pass
UID:e.1818.24995
SEQUENCE:3
DTSTAMP:20260424T163802Z
URL:https://business.grantspasschamber.org/events/details/bear-hotel-the-southern-oregon-adventure-24995
END:VEVENT

END:VCALENDAR
