BEGIN:VCALENDAR
VERSION:2.0
PRODID:-//ChamberMaster//Event Calendar 2.0//EN
METHOD:PUBLISH
X-PUBLISHED-TTL:P3D
REFRESH-INTERVAL:P3D
CALSCALE:GREGORIAN
BEGIN:VEVENT
DTSTART;VALUE=DATE:20161015
DTEND;VALUE=DATE:20161016
TRANSP:TRANSPARENT
X-MICROSOFT-CDO-ALLDAYEVENT:TRUE
SUMMARY:Beard 'Fest 2016 ~ Fundraiser for Hearts With A Mission
DESCRIPTION:Tuckers Barbershop\, Wild River Pub and The Cigar Cave LLC will host this Annual Beard 'Fest  2016 event benefiting Hearts With A Mission:  The largest Beard and Mustache Competition in JoCo.\n\n\n\nThe event will feature handcrafted food\, awarding winning beer and unique cocktails along with a smash car and prizes sponsored by 50 Local Vendors.\n\n\n\nThe event is a first of its kind in Josephine County and brings a panel of local and statewide judges.
X-ALT-DESC;FMTTYPE=text/html:<strong><u>Tuckers Barbershop\, Wild River Pub and The Cigar Cave LLC</u> will host this Annual Beard &#39\;Fest&nbsp\; 2016 event benefiting Hearts With A Mission:&nbsp\; The largest Beard and Mustache Competition in JoCo.</strong><br />\n<br />\n<strong>The event will feature handcrafted food\, awarding winning beer and unique cocktails along with a smash car and prizes sponsored by 50 Local Vendors.</strong><br />\n<br />\n<strong>The event is a first of its kind in Josephine County and brings a panel of local and statewide judges.</strong>
LOCATION:Wild River Pub 533 NE F Street Grants Pass
UID:e.1818.17901
SEQUENCE:3
DTSTAMP:20260425T163343Z
URL:https://business.grantspasschamber.org/events/details/beard-fest-2016-fundraiser-for-hearts-with-a-mission-17901
END:VEVENT

END:VCALENDAR
