BEGIN:VCALENDAR
VERSION:2.0
PRODID:-//ChamberMaster//Event Calendar 2.0//EN
METHOD:PUBLISH
X-PUBLISHED-TTL:P3D
REFRESH-INTERVAL:P3D
CALSCALE:GREGORIAN
BEGIN:VEVENT
DTSTART;VALUE=DATE:20160528
DTEND;VALUE=DATE:20160529
TRANSP:TRANSPARENT
X-MICROSOFT-CDO-ALLDAYEVENT:TRUE
SUMMARY:BearFest 2016
DESCRIPTION:Evergreen Federal Bank is proud to host BearFest 2016 on the streets of downtown Grants Pass. Forty bears\, including the Southern Oregon Bears\, will be on display from Memorial Day to Labor Day.\n\nFor more information call Evergreen's Bear Hotel at: 541-479-3351
X-ALT-DESC;FMTTYPE=text/html:<p style="color: rgb(0\, 0\, 0)\; font-family: georgia\, 'times new roman'\, serif\; font-size: 13px\; font-style: normal\; font-variant: normal\; font-weight: normal\; letter-spacing: normal\; line-height: 18.2px\; orphans: auto\; text-align: justify\; text-indent: 0px\; text-transform: none\; white-space: normal\; widows: 1\; word-spacing: 0px\; -webkit-text-stroke-width: 0px\; background-color: rgb(251\, 247\, 235)\;">Evergreen Federal Bank is proud to host BearFest 2016 on the streets of downtown Grants Pass. Forty bears\, including the Southern Oregon Bears\, will be on display from Memorial Day to Labor Day.</p>\n\n<p style="color: rgb(0\, 0\, 0)\; font-family: georgia\, 'times new roman'\, serif\; font-size: 13px\; font-style: normal\; font-variant: normal\; font-weight: normal\; letter-spacing: normal\; line-height: 18.2px\; orphans: auto\; text-align: justify\; text-indent: 0px\; text-transform: none\; white-space: normal\; widows: 1\; word-spacing: 0px\; -webkit-text-stroke-width: 0px\; background-color: rgb(251\, 247\, 235)\;">For more information call Evergreen&rsquo\;s Bear Hotel at: 541-479-3351</p>\n\n<p style="color: rgb(0\, 0\, 0)\; font-family: georgia\, 'times new roman'\, serif\; font-size: 13px\; font-style: normal\; font-variant: normal\; font-weight: normal\; letter-spacing: normal\; line-height: 18.2px\; orphans: auto\; text-align: justify\; text-indent: 0px\; text-transform: none\; white-space: normal\; widows: 1\; word-spacing: 0px\; -webkit-text-stroke-width: 0px\; background-color: rgb(251\, 247\, 235)\;">&nbsp\;</p>\n
LOCATION:
UID:e.1818.17215
SEQUENCE:3
DTSTAMP:20260425T235936Z
URL:https://business.grantspasschamber.org/events/details/bearfest-2016-05-28-2016-17215
END:VEVENT

END:VCALENDAR
