BEGIN:VCALENDAR
VERSION:2.0
PRODID:-//ChamberMaster//Event Calendar 2.0//EN
METHOD:PUBLISH
X-PUBLISHED-TTL:P3D
REFRESH-INTERVAL:P3D
CALSCALE:GREGORIAN
BEGIN:VEVENT
DTSTART:20160415T010000Z
DTEND:20160415T050000Z
X-MICROSOFT-CDO-ALLDAYEVENT:FALSE
SUMMARY:Beer & Build ~ Rebel Bricks
DESCRIPTION:This is an event for our 21 and over fans! We will have Griess Family Brews here with the beer\, and The Vine Restaurant here with food!\n\n\n\nSpots are limited\, so sign up today! The food options will be Fettuccine Alfredo (Chicken optional) or Chicken Marsala. Both will be served with salad and bread.\n\n\n\nThese need to be ordered ahead\, so we must get a deposit! Beer can be purchased during the event directly from Griess. You can stop by Rebel Bricks to reserve your spot and put your deposit down!
X-ALT-DESC;FMTTYPE=text/html:<strong>This is an event for our 21 and over fans! We will have Griess Family Brews here with the beer\, and The Vine Restaurant here with food!<br />\n<br />\nSpots are limited\, so sign up today! The food options will be Fettuccine Alfredo (Chicken optional) or Chicken Marsala. Both will be served with salad and bread.<br />\n<br />\nThese need to be ordered ahead\, so we must get a deposit! Beer can be purchased during the event directly from Griess. You can stop by Rebel Bricks to reserve your spot and put your deposit down!</strong>
LOCATION:Rebel Bricks 229 SW G Street Grants Pass
UID:e.1818.17236
SEQUENCE:3
DTSTAMP:20260426T013345Z
URL:https://business.grantspasschamber.org/events/details/beer-build-rebel-bricks-04-14-2016-17236
END:VEVENT

END:VCALENDAR
