BEGIN:VCALENDAR
VERSION:2.0
PRODID:-//ChamberMaster//Event Calendar 2.0//EN
METHOD:PUBLISH
X-PUBLISHED-TTL:P3D
REFRESH-INTERVAL:P3D
CALSCALE:GREGORIAN
BEGIN:VEVENT
DTSTART:20231115T020000Z
DTEND:20231115T040000Z
X-MICROSOFT-CDO-ALLDAYEVENT:FALSE
SUMMARY:Beer & Build-Wild River Pub
DESCRIPTION:Join us for a fun new event: Beer & Build - a Lego building extravaganza in partnership with Grants Pass Rebel Bricks!\n\nDate: November 14th\, 6:00 PM\n\nLocation: Wild River Pub\, 533 NE F St\n\nGet ready to unleash your creativity and embrace the ultimate Lego challenge! Our 'Beer & Build' competition promises an unforgettable evening of laughter\, camaraderie\, and building wonders with iconic colorful Lego bricks.\n\nAdmission: $20/ticket\, each ticket includes one complimentary pint of beer (under 21? Don't worry\, you get a small fry instead!) With Legos provided\, all you need to bring is your boundless imagination and a thirst for fun! Let your inner architect and engineer collide as you craft mesmerizing creations during this high-energy\, timed event to compete for special prizes!\n\nOur panel of expert judges will be eagerly watching as you put your building skills to the test. Every second counts as you construct your masterpieces. Can you handle the pressure and come out on top? Gather your friends\, family\, or even go solo\, and embark on this Lego-filled adventure!\n\nLet the creativity flow\, and may the best builder claim the grand prize! See you at Wild River Pub for 'Beer & Build'!
X-ALT-DESC;FMTTYPE=text/html:<div class="xdj266r x11i5rnm xat24cr x1mh8g0r x1vvkbs" style="margin: 0px\; overflow-wrap: break-word\; font-family: &quot\;Segoe UI Historic&quot\;\, &quot\;Segoe UI&quot\;\, Helvetica\, Arial\, sans-serif\; color: rgb(5\, 5\, 5)\; font-size: 15px\; background-color: rgb(255\, 255\, 255)\;"><span style="font-size:20px\;">Join us for a fun new event: Beer &amp\; Build - a Lego building extravaganza in partnership with Grants Pass Rebel Bricks!</span></div>\n\n<div class="x11i5rnm xat24cr x1mh8g0r x1vvkbs xtlvy1s" style="margin: 0.5em 0px 0px\; overflow-wrap: break-word\; font-family: &quot\;Segoe UI Historic&quot\;\, &quot\;Segoe UI&quot\;\, Helvetica\, Arial\, sans-serif\; color: rgb(5\, 5\, 5)\; font-size: 15px\; background-color: rgb(255\, 255\, 255)\;"><span style="font-size: 20px\;">Date: November 14th\, 6:00 PM</span><br />\n<span style="font-size: 20px\;">Location: Wild River Pub\, 533 NE F St</span></div>\n\n<div class="x11i5rnm xat24cr x1mh8g0r x1vvkbs xtlvy1s" style="margin: 0.5em 0px 0px\; overflow-wrap: break-word\; font-family: &quot\;Segoe UI Historic&quot\;\, &quot\;Segoe UI&quot\;\, Helvetica\, Arial\, sans-serif\; color: rgb(5\, 5\, 5)\; font-size: 15px\; background-color: rgb(255\, 255\, 255)\;"><span style="font-size:20px\;">Get ready to unleash your creativity and embrace the ultimate Lego challenge! Our &#39\;Beer &amp\; Build&#39\; competition promises an unforgettable evening of laughter\, camaraderie\, and building wonders with iconic colorful Lego bricks.</span></div>\n\n<div class="x11i5rnm xat24cr x1mh8g0r x1vvkbs xtlvy1s" style="margin: 0.5em 0px 0px\; overflow-wrap: break-word\; font-family: &quot\;Segoe UI Historic&quot\;\, &quot\;Segoe UI&quot\;\, Helvetica\, Arial\, sans-serif\; color: rgb(5\, 5\, 5)\; font-size: 15px\; background-color: rgb(255\, 255\, 255)\;"><span style="font-size: 20px\;">Admission: $20/ticket\, each ticket includes one complimentary pint of beer (under 21? Don&#39\;t worry\, you get a small fry instead!)&nbsp\;</span><span style="font-size: 20px\;">With Legos provided\, all you need to bring is your boundless imagination and a thirst for fun! Let your inner architect and engineer collide as you craft mesmerizing creations during this high-energy\, timed event to compete for special prizes!</span></div>\n\n<div class="x11i5rnm xat24cr x1mh8g0r x1vvkbs xtlvy1s" style="margin: 0.5em 0px 0px\; overflow-wrap: break-word\; font-family: &quot\;Segoe UI Historic&quot\;\, &quot\;Segoe UI&quot\;\, Helvetica\, Arial\, sans-serif\; color: rgb(5\, 5\, 5)\; font-size: 15px\; background-color: rgb(255\, 255\, 255)\;"><span style="font-size:20px\;">Our panel of expert judges will be eagerly watching as you put your building skills to the test. Every second counts as you construct your masterpieces. Can you handle the pressure and come out on top? Gather your friends\, family\, or even go solo\, and embark on this Lego-filled adventure!</span></div>\n\n<div class="x11i5rnm xat24cr x1mh8g0r x1vvkbs xtlvy1s" style="margin: 0.5em 0px 0px\; overflow-wrap: break-word\; font-family: &quot\;Segoe UI Historic&quot\;\, &quot\;Segoe UI&quot\;\, Helvetica\, Arial\, sans-serif\; color: rgb(5\, 5\, 5)\; font-size: 15px\; background-color: rgb(255\, 255\, 255)\;"><span style="font-size:20px\;">Let the creativity flow\, and may the best builder claim the grand prize! See you at Wild River Pub for &#39\;Beer &amp\; Build&#39\;!</span></div>\n
LOCATION:Wild River Pub 533 NE "F" Street
UID:e.1818.45972
SEQUENCE:3
DTSTAMP:20260420T212923Z
URL:https://business.grantspasschamber.org/events/details/beer-build-wild-river-pub-45972
END:VEVENT

END:VCALENDAR
