BEGIN:VCALENDAR
VERSION:2.0
PRODID:-//ChamberMaster//Event Calendar 2.0//EN
METHOD:PUBLISH
X-PUBLISHED-TTL:P3D
REFRESH-INTERVAL:P3D
CALSCALE:GREGORIAN
BEGIN:VEVENT
DTSTART;VALUE=DATE:20160315
DTEND;VALUE=DATE:20160316
TRANSP:TRANSPARENT
X-MICROSOFT-CDO-ALLDAYEVENT:TRUE
SUMMARY:Benefit for the ''Lottery Local Control Committee''
DESCRIPTION:State of the State ~ Why Local Control Matters in Oregon\n\nNorthwest radio personality Lars Larson joins us live by video conference from his skype lounge ! !
X-ALT-DESC;FMTTYPE=text/html:<strong><u>State of the State ~ Why Local Control Matters in Oregon</u><br />\nNorthwest radio personality Lars Larson joins us live by video conference from his skype lounge ! !</strong>
LOCATION:Grants Pass Golf Club 230 Espey Road Grants Pass
UID:e.1818.16855
SEQUENCE:3
DTSTAMP:20260426T030722Z
URL:https://business.grantspasschamber.org/events/details/benefit-for-the-lottery-local-control-committee-03-15-2016-16855
END:VEVENT

END:VCALENDAR
