BEGIN:VCALENDAR
VERSION:2.0
PRODID:-//ChamberMaster//Event Calendar 2.0//EN
METHOD:PUBLISH
X-PUBLISHED-TTL:P3D
REFRESH-INTERVAL:P3D
CALSCALE:GREGORIAN
BEGIN:VEVENT
DTSTART;VALUE=DATE:20160507
DTEND;VALUE=DATE:20160508
TRANSP:TRANSPARENT
X-MICROSOFT-CDO-ALLDAYEVENT:TRUE
SUMMARY:Berner ''On the Fireside Stage''
DESCRIPTION:In2Win Entertainment and Smokey J's Delivery Presents Berner Live! on the Fireside Stage.\n\nRae Rock ~ Josia ~ Kamahi ~ Dane 07 ~ 3rd Degree \n\n\n\n\n\nSponsored by High Tide Wellness Center LLC and Antheia.\n\n\n\nBerner is coming to the Josephine County Fairgrounds Grants Pass\, Oregon to perform a day concert not to be missed.
X-ALT-DESC;FMTTYPE=text/html:<font size="3" style="margin: 0px\;"><a data-hovercard="/ajax/hovercard/page.php?id=295586045154&amp\;extragetparams=%7B%22directed_target_id%22%3A896124380495181%7D" href="https://www.facebook.com/In2WinENT/" style="margin: 0px\; color: rgb(241\, 108\, 23)\; text-decoration: none\; text-shadow: none\; outline: 0px\; cursor: pointer\;">In2Win Entertainment</a>&nbsp\;and <a href="http://https//www.facebook.com/smokeyjs.delivery" style="margin: 0px\; color: rgb(241\, 108\, 23)\; text-decoration: none\; text-shadow: none\; outline: 0px\; cursor: pointer\;" target="_self">Smokey J&#39\;s Delivery</a>&nbsp\;Presents&nbsp\;<a data-hovercard="/ajax/hovercard/page.php?id=101699643221210&amp\;extragetparams=%7B%22directed_target_id%22%3A896124380495181%7D" href="https://www.facebook.com/berner415/" style="margin: 0px\; color: rgb(241\, 108\, 23)\; text-decoration: none\; text-shadow: none\; outline: 0px\; cursor: pointer\;">Berner</a>&nbsp\;Live! on the Fireside Stage.<br />\n<span style="font-size:16px\;"><strong>Rae Rock ~ Josia ~ Kamahi ~ Dane 07 ~ 3rd Degree </strong></span><br />\n<br />\n<br />\nSponsored by&nbsp\;<a data-hovercard="/ajax/hovercard/page.php?id=700197180099763&amp\;extragetparams=%7B%22directed_target_id%22%3A896124380495181%7D" href="https://www.facebook.com/hightidewellnesscenterllc/" style="margin: 0px\; color: rgb(241\, 108\, 23)\; text-decoration: none\; text-shadow: none\; outline: 0px\; cursor: pointer\;">High Tide Wellness Center LLC</a>&nbsp\;and Antheia.</font>\n\n<p style="margin: 0px 0px 1.2rem\; color: rgb(0\, 0\, 0)\; font-family: Lato\, HelveticaNeue-Regular\, 'Helvetica Neue Regular'\, 'Helvetica Neue'\, Helvetica\, Arial\, 'Lucida Grande'\, sans-serif\; font-size: 16px\; font-style: normal\; font-variant: normal\; font-weight: normal\; letter-spacing: normal\; line-height: 24px\; orphans: auto\; text-align: start\; text-indent: 0px\; text-transform: none\; white-space: normal\; widows: 1\; word-spacing: 0px\; -webkit-text-stroke-width: 0px\; background-color: rgb(236\, 228\, 217)\;"><br />\n<font size="3" style="margin: 0px\;"><a data-hovercard="/ajax/hovercard/page.php?id=101699643221210&amp\;extragetparams=%7B%22directed_target_id%22%3A896124380495181%7D" href="https://www.facebook.com/berner415/" style="margin: 0px\; color: rgb(241\, 108\, 23)\; text-decoration: none\; text-shadow: none\; outline: 0px\; cursor: pointer\;">Berner</a>&nbsp\;is coming to&nbsp\;</font><span style="margin: 0px\; font-size: medium\;">the&nbsp\;</span><a data-hovercard="/ajax/hovercard/page.php?id=115645608600514&amp\;extragetparams=%7B%22directed_target_id%22%3A896124380495181%7D" href="https://www.facebook.com/JosephineCountyFairgrounds/" id="js_5s" style="margin: 0px\; color: rgb(241\, 108\, 23)\; text-decoration: none\; text-shadow: none\; outline: 0px\; cursor: pointer\; font-size: medium\;">Josephine County Fairgrounds</a><span style="margin: 0px\; font-size: medium\;">&nbsp\;</span><a data-hovercard="/ajax/hovercard/page.php?id=104112372958357&amp\;extragetparams=%7B%22directed_target_id%22%3A896124380495181%7D" href="https://www.facebook.com/pages/Grants-Pass-Oregon/104112372958357" style="margin: 0px\; color: rgb(241\, 108\, 23)\; text-decoration: none\; text-shadow: none\; outline: 0px\; cursor: pointer\; font-size: medium\;">Grants Pass\, Oregon</a><span style="margin: 0px\; font-size: medium\;">&nbsp\;to perform a day concert not to be missed.&nbsp\;</span></p>\n
LOCATION:Josephine County Fairgrounds Grandstands Grants Pass
UID:e.1818.16868
SEQUENCE:3
DTSTAMP:20260425T235943Z
URL:https://business.grantspasschamber.org/events/details/berner-on-the-fireside-stage-05-07-2016-16868
END:VEVENT

END:VCALENDAR
