BEGIN:VCALENDAR
VERSION:2.0
PRODID:-//ChamberMaster//Event Calendar 2.0//EN
METHOD:PUBLISH
X-PUBLISHED-TTL:P3D
REFRESH-INTERVAL:P3D
CALSCALE:GREGORIAN
BEGIN:VEVENT
DTSTART;VALUE=DATE:20160402
DTEND;VALUE=DATE:20160403
TRANSP:TRANSPARENT
X-MICROSOFT-CDO-ALLDAYEVENT:TRUE
SUMMARY:Big Game Banquet and Fundraiser ~ 15th Annual
DESCRIPTION:Rocky Mountain Elk Foundation is committed to conserving\, restoring and enhancing natural habitats\; promoting the sound management of wild\, free-ranging elk\; fostering cooperation among federal\, state\, tribal\, and private organizations.\n\n\n\nThree Rivers-Grants Pass chamber\, will be hosting this event which is one of the Foundation's primary fundraisers.  A portion of the evening will include live and silent auctions\, general and special raffles.
X-ALT-DESC;FMTTYPE=text/html:<strong>Rocky Mountain Elk Foundation is committed to conserving\, restoring and enhancing natural habitats\; promoting the sound management of wild\, free-ranging elk\; fostering cooperation among federal\, state\, tribal\, and private organizations.</strong><br />\n<br />\n<strong>Three Rivers-Grants Pass chamber\, will be hosting this event which is one of the Foundation&#39\;s primary fundraisers.&nbsp\; A portion of the evening will include live and silent auctions\, general and special raffles.</strong>
LOCATION:Boys & Girls Club of the Rogue Valley Grants Pass
UID:e.1818.15744
SEQUENCE:3
DTSTAMP:20260426T013438Z
URL:https://business.grantspasschamber.org/events/details/big-game-banquet-and-fundraiser-15th-annual-04-02-2016-15744
END:VEVENT

END:VCALENDAR
